BEGIN:VCALENDAR
VERSION:2.0
PRODID:-//AusschreibungsRadar//Timeline//DE
CALSCALE:GREGORIAN
METHOD:PUBLISH
X-WR-CALNAME:Projekt BKH Kempten - Personalwohnungen Keselstraße 65
X-WR-TIMEZONE:Europe/Berlin
BEGIN:VEVENT
UID:9e07eb23f21d1167@ausschreibungsradar.com
DTSTAMP:20260425T185205Z
DTSTART;VALUE=DATE:20250807
DTEND;VALUE=DATE:20250807
SUMMARY:Angebotsfrist — BKH Kempten - Personalwohnungen Keselstraße 65
DESCRIPTION:Phase: Ausschreibung | Beschreibung: Angebote werden eingeholt | Link: https://ausschreibungsradar.com/ausschreibung/fecec89b-1ef9-4f67-9923-24c794fa5d75/
URL:https://ausschreibungsradar.com/ausschreibung/fecec89b-1ef9-4f67-9923-24c794fa5d75/
END:VEVENT
BEGIN:VEVENT
UID:764ef98bea9c5c0e@ausschreibungsradar.com
DTSTAMP:20260425T185205Z
DTSTART;VALUE=DATE:20250706
DTEND;VALUE=DATE:20250706
SUMMARY:Ausschreibung — BKH Kempten - Personalwohnungen Keselstraße 65
DESCRIPTION:Phase: Ausschreibung | Beschreibung: Offizielle Ausschreibung mit Bieterfrist. | Link: https://ausschreibungsradar.com/ausschreibung/1775644a-a516-468e-ace7-1b4c9cd09366/
URL:https://ausschreibungsradar.com/ausschreibung/1775644a-a516-468e-ace7-1b4c9cd09366/
END:VEVENT
BEGIN:VEVENT
UID:0c5ada4ab504bbf3@ausschreibungsradar.com
DTSTAMP:20260425T185205Z
DTSTART;VALUE=DATE:20251025
DTEND;VALUE=DATE:20251025
SUMMARY:Vergabeergebnis — BKH Kempten - Personalwohnungen Keselstraße 65
DESCRIPTION:Phase: Vergabeergebnis | Beschreibung: Auftrag wurde zugeschlagen | Link: https://ausschreibungsradar.com/ausschreibung/232afcb3-9392-44ca-944a-01062767cd32/
URL:https://ausschreibungsradar.com/ausschreibung/232afcb3-9392-44ca-944a-01062767cd32/
END:VEVENT
END:VCALENDAR
