BEGIN:VCALENDAR
VERSION:2.0
PRODID:-//AusschreibungsRadar//Timeline//DE
CALSCALE:GREGORIAN
METHOD:PUBLISH
X-WR-CALNAME:Projekt Sanierung der Kindertagesstätte Arche Noah in Hösbach - Arch
X-WR-TIMEZONE:Europe/Berlin
BEGIN:VEVENT
UID:5238e0a031438624@ausschreibungsradar.com
DTSTAMP:20260425T024604Z
DTSTART;VALUE=DATE:20240205
DTEND;VALUE=DATE:20240205
SUMMARY:Ausschreibung — Sanierung der Kindertagesstätte Arche Noah in Hösbach - Arch
DESCRIPTION:Phase: Ausschreibung | Beschreibung: Angebote werden eingeholt | Link: https://ausschreibungsradar.com/ausschreibung/19524088-fdeb-4fc7-b839-b1dbf7d702ff/
URL:https://ausschreibungsradar.com/ausschreibung/19524088-fdeb-4fc7-b839-b1dbf7d702ff/
END:VEVENT
BEGIN:VEVENT
UID:ac75ca68969cf1a5@ausschreibungsradar.com
DTSTAMP:20260425T024604Z
DTSTART;VALUE=DATE:20241028
DTEND;VALUE=DATE:20241028
SUMMARY:Vergabeergebnis — Sanierung der Kindertagesstätte Arche Noah in Hösbach - Arch
DESCRIPTION:Phase: Vergabeergebnis | Beschreibung: Auftrag wurde zugeschlagen | Link: https://ausschreibungsradar.com/ausschreibung/ff2cd48c-5a6c-40f8-9053-efbb9223cfca/ | Geschätzter Wert: 264912 €
URL:https://ausschreibungsradar.com/ausschreibung/ff2cd48c-5a6c-40f8-9053-efbb9223cfca/
END:VEVENT
BEGIN:VEVENT
UID:238d114eba1b41b9@ausschreibungsradar.com
DTSTAMP:20260425T024604Z
DTSTART;VALUE=DATE:20241031
DTEND;VALUE=DATE:20241031
SUMMARY:Zuschlag — Sanierung der Kindertagesstätte Arche Noah in Hösbach - Arch
DESCRIPTION:Phase: Zuschlag | Beschreibung: Vergabeergebnis — Auftrag wurde erteilt oder Verfahren beendet. | Link: https://ausschreibungsradar.com/ausschreibung/3d81d4f3-99ca-4e36-9d96-dc975256f499/
URL:https://ausschreibungsradar.com/ausschreibung/3d81d4f3-99ca-4e36-9d96-dc975256f499/
END:VEVENT
END:VCALENDAR
