BEGIN:VCALENDAR
VERSION:2.0
PRODID:-//AusschreibungsRadar//Timeline//DE
CALSCALE:GREGORIAN
METHOD:PUBLISH
X-WR-CALNAME:Projekt Fachplanung Technische Ausrüstung Anlagengruppe 4  und 5 Ges
X-WR-TIMEZONE:Europe/Berlin
BEGIN:VEVENT
UID:db52cc3abea7c0d6@ausschreibungsradar.com
DTSTAMP:20260424T181157Z
DTSTART;VALUE=DATE:20250110
DTEND;VALUE=DATE:20250110
SUMMARY:Angebotsfrist — Fachplanung Technische Ausrüstung Anlagengruppe 4  und 5 Ges
DESCRIPTION:Phase: Ausschreibung | Beschreibung: Angebote werden eingeholt | Link: https://ausschreibungsradar.com/ausschreibung/414405f0-475f-4d11-ae40-c417dace337a/
URL:https://ausschreibungsradar.com/ausschreibung/414405f0-475f-4d11-ae40-c417dace337a/
END:VEVENT
BEGIN:VEVENT
UID:be31343455f3c57d@ausschreibungsradar.com
DTSTAMP:20260424T181157Z
DTSTART;VALUE=DATE:20250120
DTEND;VALUE=DATE:20250120
SUMMARY:Vergabeergebnis — Fachplanung Technische Ausrüstung Anlagengruppe 4  und 5 Ges
DESCRIPTION:Phase: Vergabeergebnis | Beschreibung: Auftrag wurde zugeschlagen | Link: https://ausschreibungsradar.com/ausschreibung/ff7bcb27-1745-4cdf-b8ce-ad210b4bb74c/
URL:https://ausschreibungsradar.com/ausschreibung/ff7bcb27-1745-4cdf-b8ce-ad210b4bb74c/
END:VEVENT
BEGIN:VEVENT
UID:f28d961b8937239d@ausschreibungsradar.com
DTSTAMP:20260424T181157Z
DTSTART;VALUE=DATE:20250120
DTEND;VALUE=DATE:20250120
SUMMARY:Zuschlag — Fachplanung Technische Ausrüstung Anlagengruppe 4  und 5 Ges
DESCRIPTION:Phase: Zuschlag | Beschreibung: Vergabeergebnis — Auftrag wurde erteilt oder Verfahren beendet. | Link: https://ausschreibungsradar.com/ausschreibung/6aa3aa1e-de7b-4ca2-9acd-31909c5a4a17/
URL:https://ausschreibungsradar.com/ausschreibung/6aa3aa1e-de7b-4ca2-9acd-31909c5a4a17/
END:VEVENT
END:VCALENDAR
