BEGIN:VCALENDAR
VERSION:2.0
PRODID:-//AusschreibungsRadar//Timeline//DE
CALSCALE:GREGORIAN
METHOD:PUBLISH
X-WR-CALNAME:Projekt Los 312 Fenster/Türen Stahl - für Polizeiinspektion Magdebur
X-WR-TIMEZONE:Europe/Berlin
BEGIN:VEVENT
UID:ffa007496bd01603@ausschreibungsradar.com
DTSTAMP:20260426T021254Z
DTSTART;VALUE=DATE:20230718
DTEND;VALUE=DATE:20230718
SUMMARY:Angebotsfrist — Los 312 Fenster/Türen Stahl - für Polizeiinspektion Magdebur
DESCRIPTION:Phase: Ausschreibung | Beschreibung: Angebote werden eingeholt | Link: https://ausschreibungsradar.com/ausschreibung/cd60008e-bb50-4c38-ad2b-db05ad808e83/
URL:https://ausschreibungsradar.com/ausschreibung/cd60008e-bb50-4c38-ad2b-db05ad808e83/
END:VEVENT
BEGIN:VEVENT
UID:db2533c4ac109a5c@ausschreibungsradar.com
DTSTAMP:20260426T021254Z
DTSTART;VALUE=DATE:20230825
DTEND;VALUE=DATE:20230825
SUMMARY:Zuschlag — Los 312 Fenster/Türen Stahl - für Polizeiinspektion Magdebur
DESCRIPTION:Phase: Zuschlag | Beschreibung: Vergabeergebnis — Auftrag wurde erteilt oder Verfahren beendet. | Link: https://ausschreibungsradar.com/ausschreibung/0c7c4746-fb4c-4184-a413-55c704773cad/
URL:https://ausschreibungsradar.com/ausschreibung/0c7c4746-fb4c-4184-a413-55c704773cad/
END:VEVENT
BEGIN:VEVENT
UID:91c92765144fb2d0@ausschreibungsradar.com
DTSTAMP:20260426T021254Z
DTSTART;VALUE=DATE:20230901
DTEND;VALUE=DATE:20230901
SUMMARY:Vergabeergebnis — Los 312 Fenster/Türen Stahl - für Polizeiinspektion Magdebur
DESCRIPTION:Phase: Vergabeergebnis | Beschreibung: Auftrag wurde zugeschlagen | Link: https://ausschreibungsradar.com/ausschreibung/ffecd16e-2b66-4c5a-9dd8-c09da125ff11/ | Auftragnehmer: Niebuhr Stahlglastechnik 
URL:https://ausschreibungsradar.com/ausschreibung/ffecd16e-2b66-4c5a-9dd8-c09da125ff11/
END:VEVENT
BEGIN:VEVENT
UID:d330874486c09da8@ausschreibungsradar.com
DTSTAMP:20260426T021254Z
DTSTART;VALUE=DATE:20230903
DTEND;VALUE=DATE:20230903
SUMMARY:Ausschreibung — Los 312 Fenster/Türen Stahl - für Polizeiinspektion Magdebur
DESCRIPTION:Phase: Ausschreibung | Beschreibung: Offizielle Ausschreibung mit Bieterfrist. | Link: https://ausschreibungsradar.com/ausschreibung/9b540a75-bb86-4f88-a4a9-c65ae5ad7c26/
URL:https://ausschreibungsradar.com/ausschreibung/9b540a75-bb86-4f88-a4a9-c65ae5ad7c26/
END:VEVENT
END:VCALENDAR
