BEGIN:VCALENDAR
VERSION:2.0
PRODID:-//AusschreibungsRadar//Timeline//DE
CALSCALE:GREGORIAN
METHOD:PUBLISH
X-WR-CALNAME:Projekt Beförderung von Briefsendungen für das Finanzamt Bautzen (11
X-WR-TIMEZONE:Europe/Berlin
BEGIN:VEVENT
UID:79cdfaf3d63e0797@ausschreibungsradar.com
DTSTAMP:20260424T181151Z
DTSTART;VALUE=DATE:20260326
DTEND;VALUE=DATE:20260326
SUMMARY:Ausschreibung — Beförderung von Briefsendungen für das Finanzamt Bautzen (11
DESCRIPTION:Phase: Ausschreibung | Beschreibung: Offizielle Ausschreibung mit Bieterfrist. | Link: https://ausschreibungsradar.com/ausschreibung/sachsen-19d28c22d7a-2abea0643aa72e7a/
URL:https://ausschreibungsradar.com/ausschreibung/sachsen-19d28c22d7a-2abea0643aa72e7a/
END:VEVENT
BEGIN:VEVENT
UID:9423368a1f0122cb@ausschreibungsradar.com
DTSTAMP:20260424T181151Z
DTSTART;VALUE=DATE:20260326
DTEND;VALUE=DATE:20260326
SUMMARY:Ausschreibung — Beförderung von Briefsendungen für das Finanzamt Bautzen (11
DESCRIPTION:Phase: Ausschreibung | Beschreibung: Offizielle Ausschreibung mit Bieterfrist. | Link: https://ausschreibungsradar.com/ausschreibung/sachsen-19d28d4fde1-3f006f71f6ae0228/
URL:https://ausschreibungsradar.com/ausschreibung/sachsen-19d28d4fde1-3f006f71f6ae0228/
END:VEVENT
BEGIN:VEVENT
UID:eda5809e5ba5cb0d@ausschreibungsradar.com
DTSTAMP:20260424T181151Z
DTSTART;VALUE=DATE:20260326
DTEND;VALUE=DATE:20260326
SUMMARY:Ausschreibung — Beförderung von Briefsendungen für das Finanzamt Bautzen (11
DESCRIPTION:Phase: Ausschreibung | Beschreibung: Offizielle Ausschreibung mit Bieterfrist. | Link: https://ausschreibungsradar.com/ausschreibung/sachsen-19d28e45e5a-5078c08db7b3e542/
URL:https://ausschreibungsradar.com/ausschreibung/sachsen-19d28e45e5a-5078c08db7b3e542/
END:VEVENT
BEGIN:VEVENT
UID:048b188e34fbdb8e@ausschreibungsradar.com
DTSTAMP:20260424T181151Z
DTSTART;VALUE=DATE:20260326
DTEND;VALUE=DATE:20260326
SUMMARY:Ausschreibung — Beförderung von Briefsendungen für das Finanzamt Bautzen (11
DESCRIPTION:Phase: Ausschreibung | Beschreibung: Offizielle Ausschreibung mit Bieterfrist. | Link: https://ausschreibungsradar.com/ausschreibung/25160082/
URL:https://ausschreibungsradar.com/ausschreibung/25160082/
END:VEVENT
BEGIN:VEVENT
UID:eb93a00318249de0@ausschreibungsradar.com
DTSTAMP:20260424T181151Z
DTSTART;VALUE=DATE:20260326
DTEND;VALUE=DATE:20260326
SUMMARY:Ausschreibung — Beförderung von Briefsendungen für das Finanzamt Bautzen (11
DESCRIPTION:Phase: Ausschreibung | Beschreibung: Offizielle Ausschreibung mit Bieterfrist. | Link: https://ausschreibungsradar.com/ausschreibung/25160086/
URL:https://ausschreibungsradar.com/ausschreibung/25160086/
END:VEVENT
BEGIN:VEVENT
UID:014a8537954d4f20@ausschreibungsradar.com
DTSTAMP:20260424T181151Z
DTSTART;VALUE=DATE:20260326
DTEND;VALUE=DATE:20260326
SUMMARY:Ausschreibung — Beförderung von Briefsendungen für das Finanzamt Bautzen (11
DESCRIPTION:Phase: Ausschreibung | Beschreibung: Offizielle Ausschreibung mit Bieterfrist. | Link: https://ausschreibungsradar.com/ausschreibung/25160090/
URL:https://ausschreibungsradar.com/ausschreibung/25160090/
END:VEVENT
END:VCALENDAR
