BEGIN:VCALENDAR
VERSION:2.0
PRODID:-//AusschreibungsRadar//Timeline//DE
CALSCALE:GREGORIAN
METHOD:PUBLISH
X-WR-CALNAME:Projekt Deutschland – Planungsleistungen im Bauwesen – Neue Ständige
X-WR-TIMEZONE:Europe/Berlin
BEGIN:VEVENT
UID:b748fc8e24c7fd60@ausschreibungsradar.com
DTSTAMP:20260426T013145Z
DTSTART;VALUE=DATE:20240222
DTEND;VALUE=DATE:20240222
SUMMARY:Zuschlag — Deutschland – Planungsleistungen im Bauwesen – Neue Ständige
DESCRIPTION:Phase: Zuschlag | Beschreibung: Vergabeergebnis — Auftrag wurde erteilt oder Verfahren beendet. | Link: https://ausschreibungsradar.com/ausschreibung/ed19be39-6986-4c06-a1a0-981857f968db/
URL:https://ausschreibungsradar.com/ausschreibung/ed19be39-6986-4c06-a1a0-981857f968db/
END:VEVENT
BEGIN:VEVENT
UID:62d0f44e4da7b0b2@ausschreibungsradar.com
DTSTAMP:20260426T013145Z
DTSTART;VALUE=DATE:20240223
DTEND;VALUE=DATE:20240223
SUMMARY:Zuschlag — Deutschland – Planungsleistungen im Bauwesen – Neue Ständige
DESCRIPTION:Phase: Zuschlag | Beschreibung: Vergabeergebnis — Auftrag wurde erteilt oder Verfahren beendet. | Link: https://ausschreibungsradar.com/ausschreibung/ted-113272-2024/ | Geschätzter Wert: 100 €
URL:https://ausschreibungsradar.com/ausschreibung/ted-113272-2024/
END:VEVENT
END:VCALENDAR
