BEGIN:VCALENDAR
VERSION:2.0
PRODID:-//AusschreibungsRadar//Timeline//DE
CALSCALE:GREGORIAN
METHOD:PUBLISH
X-WR-CALNAME:Projekt Deutschland-Essen: Softwarepaket für den rechnergestützten E
X-WR-TIMEZONE:Europe/Berlin
BEGIN:VEVENT
UID:077a1b9bf070c880@ausschreibungsradar.com
DTSTAMP:20260424T133154Z
DTSTART;VALUE=DATE:20230106
DTEND;VALUE=DATE:20230106
SUMMARY:Zuschlag — Deutschland-Essen: Softwarepaket für den rechnergestützten E
DESCRIPTION:Phase: Zuschlag | Beschreibung: Vergabeergebnis — Auftrag wurde erteilt oder Verfahren beendet. | Link: https://ausschreibungsradar.com/ausschreibung/ted-11773-2023/ | Geschätzter Wert: 1 €
URL:https://ausschreibungsradar.com/ausschreibung/ted-11773-2023/
END:VEVENT
BEGIN:VEVENT
UID:9c0265423b1d8f3f@ausschreibungsradar.com
DTSTAMP:20260424T133154Z
DTSTART;VALUE=DATE:20230203
DTEND;VALUE=DATE:20230203
SUMMARY:Zuschlag — Deutschland-Essen: Softwarepaket für den rechnergestützten E
DESCRIPTION:Phase: Zuschlag | Beschreibung: Vergabeergebnis — Auftrag wurde erteilt oder Verfahren beendet. | Link: https://ausschreibungsradar.com/ausschreibung/ted-73655-2023/
URL:https://ausschreibungsradar.com/ausschreibung/ted-73655-2023/
END:VEVENT
END:VCALENDAR
