BEGIN:VCALENDAR
VERSION:2.0
PRODID:-//AusschreibungsRadar//Timeline//DE
CALSCALE:GREGORIAN
METHOD:PUBLISH
X-WR-CALNAME:Projekt Deutschland – Dienstleistungen von Architektur-, Konstruktio
X-WR-TIMEZONE:Europe/Berlin
BEGIN:VEVENT
UID:d4f9aa4abff813cb@ausschreibungsradar.com
DTSTAMP:20260425T190011Z
DTSTART;VALUE=DATE:20240227
DTEND;VALUE=DATE:20240227
SUMMARY:Ausschreibung — Deutschland – Dienstleistungen von Architektur-\, Konstruktio
DESCRIPTION:Phase: Ausschreibung | Beschreibung: Offizielle Ausschreibung mit Bieterfrist. | Link: https://ausschreibungsradar.com/ausschreibung/560a9fb0-723f-4896-b740-3be1dc667b34/
URL:https://ausschreibungsradar.com/ausschreibung/560a9fb0-723f-4896-b740-3be1dc667b34/
END:VEVENT
BEGIN:VEVENT
UID:c48b1ee47460940f@ausschreibungsradar.com
DTSTAMP:20260425T190011Z
DTSTART;VALUE=DATE:20240228
DTEND;VALUE=DATE:20240228
SUMMARY:Ausschreibung — Deutschland – Dienstleistungen von Architektur-\, Konstruktio
DESCRIPTION:Phase: Ausschreibung | Beschreibung: Offizielle Ausschreibung mit Bieterfrist. | Link: https://ausschreibungsradar.com/ausschreibung/ted-122090-2024/
URL:https://ausschreibungsradar.com/ausschreibung/ted-122090-2024/
END:VEVENT
END:VCALENDAR
