BEGIN:VCALENDAR
VERSION:2.0
PRODID:-//AusschreibungsRadar//Timeline//DE
CALSCALE:GREGORIAN
METHOD:PUBLISH
X-WR-CALNAME:Projekt Deutschland – Einbau von Türen und Fenstern sowie Zubehör – 
X-WR-TIMEZONE:Europe/Berlin
BEGIN:VEVENT
UID:e5ee9ae4e133d233@ausschreibungsradar.com
DTSTAMP:20260425T202925Z
DTSTART;VALUE=DATE:20240228
DTEND;VALUE=DATE:20240228
SUMMARY:Ausschreibung — Deutschland – Einbau von Türen und Fenstern sowie Zubehör – 
DESCRIPTION:Phase: Ausschreibung | Beschreibung: Offizielle Ausschreibung mit Bieterfrist. | Link: https://ausschreibungsradar.com/ausschreibung/b882a0a8-a39d-49ed-87ed-06235cc34a49/
URL:https://ausschreibungsradar.com/ausschreibung/b882a0a8-a39d-49ed-87ed-06235cc34a49/
END:VEVENT
BEGIN:VEVENT
UID:f0672003f05a8084@ausschreibungsradar.com
DTSTAMP:20260425T202925Z
DTSTART;VALUE=DATE:20240229
DTEND;VALUE=DATE:20240229
SUMMARY:Ausschreibung — Deutschland – Einbau von Türen und Fenstern sowie Zubehör – 
DESCRIPTION:Phase: Ausschreibung | Beschreibung: Offizielle Ausschreibung mit Bieterfrist. | Link: https://ausschreibungsradar.com/ausschreibung/ted-124997-2024/ | Geschätzter Wert: 406500 €
URL:https://ausschreibungsradar.com/ausschreibung/ted-124997-2024/
END:VEVENT
END:VCALENDAR
