BEGIN:VCALENDAR
VERSION:2.0
PRODID:-//AusschreibungsRadar//Timeline//DE
CALSCALE:GREGORIAN
METHOD:PUBLISH
X-WR-CALNAME:Projekt Deutschland – Dienstleistungen von Architektur- und Ingenieu
X-WR-TIMEZONE:Europe/Berlin
BEGIN:VEVENT
UID:5252b0155a04fbbe@ausschreibungsradar.com
DTSTAMP:20260425T125514Z
DTSTART;VALUE=DATE:20240303
DTEND;VALUE=DATE:20240303
SUMMARY:Ausschreibung — Deutschland – Dienstleistungen von Architektur- und Ingenieu
DESCRIPTION:Phase: Ausschreibung | Beschreibung: Offizielle Ausschreibung mit Bieterfrist. | Link: https://ausschreibungsradar.com/ausschreibung/e7ab58b1-f4eb-46d2-8b79-1c6df541be73/
URL:https://ausschreibungsradar.com/ausschreibung/e7ab58b1-f4eb-46d2-8b79-1c6df541be73/
END:VEVENT
BEGIN:VEVENT
UID:c5fe48edeb72a1b0@ausschreibungsradar.com
DTSTAMP:20260425T125514Z
DTSTART;VALUE=DATE:20240304
DTEND;VALUE=DATE:20240304
SUMMARY:Ausschreibung — Deutschland – Dienstleistungen von Architektur- und Ingenieu
DESCRIPTION:Phase: Ausschreibung | Beschreibung: Offizielle Ausschreibung mit Bieterfrist. | Link: https://ausschreibungsradar.com/ausschreibung/ted-131824-2024/ | Geschätzter Wert: 360000 €
URL:https://ausschreibungsradar.com/ausschreibung/ted-131824-2024/
END:VEVENT
END:VCALENDAR
