BEGIN:VCALENDAR
VERSION:2.0
PRODID:-//AusschreibungsRadar//Timeline//DE
CALSCALE:GREGORIAN
METHOD:PUBLISH
X-WR-CALNAME:Projekt Deutschland-Trier: Elektrische Maschinen, Geräte, Ausstattun
X-WR-TIMEZONE:Europe/Berlin
BEGIN:VEVENT
UID:936473955123b60e@ausschreibungsradar.com
DTSTAMP:20260425T173252Z
DTSTART;VALUE=DATE:20230222
DTEND;VALUE=DATE:20230222
SUMMARY:Ausschreibung — Deutschland-Trier: Elektrische Maschinen\, Geräte\, Ausstattun
DESCRIPTION:Phase: Ausschreibung | Beschreibung: Offizielle Ausschreibung mit Bieterfrist. | Link: https://ausschreibungsradar.com/ausschreibung/ted-110759-2023/
URL:https://ausschreibungsradar.com/ausschreibung/ted-110759-2023/
END:VEVENT
BEGIN:VEVENT
UID:8dde81eb3e1a3e22@ausschreibungsradar.com
DTSTAMP:20260425T173252Z
DTSTART;VALUE=DATE:20230303
DTEND;VALUE=DATE:20230303
SUMMARY:Zuschlag — Deutschland-Trier: Elektrische Maschinen\, Geräte\, Ausstattun
DESCRIPTION:Phase: Zuschlag | Beschreibung: Vergabeergebnis — Auftrag wurde erteilt oder Verfahren beendet. | Link: https://ausschreibungsradar.com/ausschreibung/ted-128060-2023/
URL:https://ausschreibungsradar.com/ausschreibung/ted-128060-2023/
END:VEVENT
BEGIN:VEVENT
UID:022cb70dea21f762@ausschreibungsradar.com
DTSTAMP:20260425T173252Z
DTSTART;VALUE=DATE:20230306
DTEND;VALUE=DATE:20230306
SUMMARY:Ausschreibung — Deutschland-Trier: Elektrische Maschinen\, Geräte\, Ausstattun
DESCRIPTION:Phase: Ausschreibung | Beschreibung: Offizielle Ausschreibung mit Bieterfrist. | Link: https://ausschreibungsradar.com/ausschreibung/ted-136383-2023/
URL:https://ausschreibungsradar.com/ausschreibung/ted-136383-2023/
END:VEVENT
END:VCALENDAR
