BEGIN:VCALENDAR
VERSION:2.0
PRODID:-//AusschreibungsRadar//Timeline//DE
CALSCALE:GREGORIAN
METHOD:PUBLISH
X-WR-CALNAME:Projekt Deutschland – Dienstleistungen von Architektur-, Konstruktio
X-WR-TIMEZONE:Europe/Berlin
BEGIN:VEVENT
UID:e836782ab7a7c82a@ausschreibungsradar.com
DTSTAMP:20260425T225902Z
DTSTART;VALUE=DATE:20240306
DTEND;VALUE=DATE:20240306
SUMMARY:Ausschreibung — Deutschland – Dienstleistungen von Architektur-\, Konstruktio
DESCRIPTION:Phase: Ausschreibung | Beschreibung: Offizielle Ausschreibung mit Bieterfrist. | Link: https://ausschreibungsradar.com/ausschreibung/cc97f6b1-34b8-475c-b846-09c4c28b5b18/
URL:https://ausschreibungsradar.com/ausschreibung/cc97f6b1-34b8-475c-b846-09c4c28b5b18/
END:VEVENT
BEGIN:VEVENT
UID:0682e71ab809a67f@ausschreibungsradar.com
DTSTAMP:20260425T225902Z
DTSTART;VALUE=DATE:20240307
DTEND;VALUE=DATE:20240307
SUMMARY:Ausschreibung — Deutschland – Dienstleistungen von Architektur-\, Konstruktio
DESCRIPTION:Phase: Ausschreibung | Beschreibung: Offizielle Ausschreibung mit Bieterfrist. | Link: https://ausschreibungsradar.com/ausschreibung/ted-139496-2024/
URL:https://ausschreibungsradar.com/ausschreibung/ted-139496-2024/
END:VEVENT
BEGIN:VEVENT
UID:9563e6507c0245df@ausschreibungsradar.com
DTSTAMP:20260425T225902Z
DTSTART;VALUE=DATE:20240307
DTEND;VALUE=DATE:20240307
SUMMARY:Zuschlag — Deutschland – Dienstleistungen von Architektur-\, Konstruktio
DESCRIPTION:Phase: Zuschlag | Beschreibung: Vergabeergebnis — Auftrag wurde erteilt oder Verfahren beendet. | Link: https://ausschreibungsradar.com/ausschreibung/ted-140800-2024/
URL:https://ausschreibungsradar.com/ausschreibung/ted-140800-2024/
END:VEVENT
END:VCALENDAR
