BEGIN:VCALENDAR
VERSION:2.0
PRODID:-//AusschreibungsRadar//Timeline//DE
CALSCALE:GREGORIAN
METHOD:PUBLISH
X-WR-CALNAME:Projekt Deutschland-Wesel: Von Ingenieuren erbrachte Verbundleistung
X-WR-TIMEZONE:Europe/Berlin
BEGIN:VEVENT
UID:7388a45994444e7a@ausschreibungsradar.com
DTSTAMP:20260425T125436Z
DTSTART;VALUE=DATE:20230221
DTEND;VALUE=DATE:20230221
SUMMARY:Direktvergabe (VEAT) — Deutschland-Wesel: Von Ingenieuren erbrachte Verbundleistung
DESCRIPTION:Phase: Direktvergabe (VEAT) | Beschreibung: Ankündigung einer Direktvergabe mit 10-Tage-Stillhaltefrist. | Link: https://ausschreibungsradar.com/ausschreibung/ted-108809-2023/
URL:https://ausschreibungsradar.com/ausschreibung/ted-108809-2023/
END:VEVENT
BEGIN:VEVENT
UID:4257bd8e65dada7a@ausschreibungsradar.com
DTSTAMP:20260425T125436Z
DTSTART;VALUE=DATE:20230313
DTEND;VALUE=DATE:20230313
SUMMARY:Zuschlag — Deutschland-Wesel: Von Ingenieuren erbrachte Verbundleistung
DESCRIPTION:Phase: Zuschlag | Beschreibung: Vergabeergebnis — Auftrag wurde erteilt oder Verfahren beendet. | Link: https://ausschreibungsradar.com/ausschreibung/ted-151287-2023/ | Geschätzter Wert: 1483841 €
URL:https://ausschreibungsradar.com/ausschreibung/ted-151287-2023/
END:VEVENT
END:VCALENDAR
