BEGIN:VCALENDAR
VERSION:2.0
PRODID:-//AusschreibungsRadar//Timeline//DE
CALSCALE:GREGORIAN
METHOD:PUBLISH
X-WR-CALNAME:Projekt Deutschland – Dienstleistungen von Ingenieurbüros – Neubau d
X-WR-TIMEZONE:Europe/Berlin
BEGIN:VEVENT
UID:55b27ee5bbb0f573@ausschreibungsradar.com
DTSTAMP:20260426T021205Z
DTSTART;VALUE=DATE:20240318
DTEND;VALUE=DATE:20240318
SUMMARY:Zuschlag — Deutschland – Dienstleistungen von Ingenieurbüros – Neubau d
DESCRIPTION:Phase: Zuschlag | Beschreibung: Vergabeergebnis — Auftrag wurde erteilt oder Verfahren beendet. | Link: https://ausschreibungsradar.com/ausschreibung/5a685f71-5c4e-4af8-9fe1-20df116f09af/
URL:https://ausschreibungsradar.com/ausschreibung/5a685f71-5c4e-4af8-9fe1-20df116f09af/
END:VEVENT
BEGIN:VEVENT
UID:9b6f06f0d58ab49b@ausschreibungsradar.com
DTSTAMP:20260426T021205Z
DTSTART;VALUE=DATE:20240319
DTEND;VALUE=DATE:20240319
SUMMARY:Zuschlag — Deutschland – Dienstleistungen von Ingenieurbüros – Neubau d
DESCRIPTION:Phase: Zuschlag | Beschreibung: Vergabeergebnis — Auftrag wurde erteilt oder Verfahren beendet. | Link: https://ausschreibungsradar.com/ausschreibung/ted-164351-2024/
URL:https://ausschreibungsradar.com/ausschreibung/ted-164351-2024/
END:VEVENT
BEGIN:VEVENT
UID:40c4bdf0dbad1780@ausschreibungsradar.com
DTSTAMP:20260426T021205Z
DTSTART;VALUE=DATE:20240328
DTEND;VALUE=DATE:20240328
SUMMARY:Ausschreibung — Deutschland – Dienstleistungen von Ingenieurbüros – Neubau d
DESCRIPTION:Phase: Ausschreibung | Beschreibung: Offizielle Ausschreibung mit Bieterfrist. | Link: https://ausschreibungsradar.com/ausschreibung/ted-187186-2024/
URL:https://ausschreibungsradar.com/ausschreibung/ted-187186-2024/
END:VEVENT
END:VCALENDAR
