BEGIN:VCALENDAR
VERSION:2.0
PRODID:-//AusschreibungsRadar//Timeline//DE
CALSCALE:GREGORIAN
METHOD:PUBLISH
X-WR-CALNAME:Projekt Deutschland – Installation von elektrischen Leitungen – Mutt
X-WR-TIMEZONE:Europe/Berlin
BEGIN:VEVENT
UID:643a057619be25bc@ausschreibungsradar.com
DTSTAMP:20260426T021151Z
DTSTART;VALUE=DATE:20240306
DTEND;VALUE=DATE:20240306
SUMMARY:Ausschreibung — Deutschland – Installation von elektrischen Leitungen – Mutt
DESCRIPTION:Phase: Ausschreibung | Beschreibung: Offizielle Ausschreibung mit Bieterfrist. | Link: https://ausschreibungsradar.com/ausschreibung/06e6d4e2-ca90-4dd1-b54e-8014025e46aa/
URL:https://ausschreibungsradar.com/ausschreibung/06e6d4e2-ca90-4dd1-b54e-8014025e46aa/
END:VEVENT
BEGIN:VEVENT
UID:fcf21fefbedfcf2a@ausschreibungsradar.com
DTSTAMP:20260426T021151Z
DTSTART;VALUE=DATE:20240321
DTEND;VALUE=DATE:20240321
SUMMARY:Zuschlag — Deutschland – Installation von elektrischen Leitungen – Mutt
DESCRIPTION:Phase: Zuschlag | Beschreibung: Vergabeergebnis — Auftrag wurde erteilt oder Verfahren beendet. | Link: https://ausschreibungsradar.com/ausschreibung/ted-169392-2024/ | Geschätzter Wert: 255000 €
URL:https://ausschreibungsradar.com/ausschreibung/ted-169392-2024/
END:VEVENT
BEGIN:VEVENT
UID:27b91f9617b270ed@ausschreibungsradar.com
DTSTAMP:20260426T021151Z
DTSTART;VALUE=DATE:20240321
DTEND;VALUE=DATE:20240321
SUMMARY:Zuschlag — Deutschland – Installation von elektrischen Leitungen – Mutt
DESCRIPTION:Phase: Zuschlag | Beschreibung: Vergabeergebnis — Auftrag wurde erteilt oder Verfahren beendet. | Link: https://ausschreibungsradar.com/ausschreibung/ted-169390-2024/
URL:https://ausschreibungsradar.com/ausschreibung/ted-169390-2024/
END:VEVENT
END:VCALENDAR
