BEGIN:VCALENDAR
VERSION:2.0
PRODID:-//AusschreibungsRadar//Timeline//DE
CALSCALE:GREGORIAN
METHOD:PUBLISH
X-WR-CALNAME:Projekt Deutschland – Dienstleistungen von Architekturbüros – Realis
X-WR-TIMEZONE:Europe/Berlin
BEGIN:VEVENT
UID:26a7d4e56366e3ef@ausschreibungsradar.com
DTSTAMP:20260425T225911Z
DTSTART;VALUE=DATE:20240322
DTEND;VALUE=DATE:20240322
SUMMARY:Ausschreibung — Deutschland – Dienstleistungen von Architekturbüros – Realis
DESCRIPTION:Phase: Ausschreibung | Beschreibung: Offizielle Ausschreibung mit Bieterfrist. | Link: https://ausschreibungsradar.com/ausschreibung/ted-173826-2024/ | Geschätzter Wert: 30245 €
URL:https://ausschreibungsradar.com/ausschreibung/ted-173826-2024/
END:VEVENT
BEGIN:VEVENT
UID:29b15e30f86bea46@ausschreibungsradar.com
DTSTAMP:20260425T225911Z
DTSTART;VALUE=DATE:20240322
DTEND;VALUE=DATE:20240322
SUMMARY:Ausschreibung — Deutschland – Dienstleistungen von Architekturbüros – Realis
DESCRIPTION:Phase: Ausschreibung | Beschreibung: Offizielle Ausschreibung mit Bieterfrist. | Link: https://ausschreibungsradar.com/ausschreibung/dc0b2445-2b46-484e-acf6-e260052b0cdd/
URL:https://ausschreibungsradar.com/ausschreibung/dc0b2445-2b46-484e-acf6-e260052b0cdd/
END:VEVENT
END:VCALENDAR
