BEGIN:VCALENDAR
VERSION:2.0
PRODID:-//AusschreibungsRadar//Timeline//DE
CALSCALE:GREGORIAN
METHOD:PUBLISH
X-WR-CALNAME:Projekt Deutschland – Dienstleistungen von Architektur-, Konstruktio
X-WR-TIMEZONE:Europe/Berlin
BEGIN:VEVENT
UID:d924b06f2bd3f95b@ausschreibungsradar.com
DTSTAMP:20260426T011105Z
DTSTART;VALUE=DATE:20240327
DTEND;VALUE=DATE:20240327
SUMMARY:Ausschreibung — Deutschland – Dienstleistungen von Architektur-\, Konstruktio
DESCRIPTION:Phase: Ausschreibung | Beschreibung: Offizielle Ausschreibung mit Bieterfrist. | Link: https://ausschreibungsradar.com/ausschreibung/b654ad6a-4ffd-4176-95f2-92f03e783388/
URL:https://ausschreibungsradar.com/ausschreibung/b654ad6a-4ffd-4176-95f2-92f03e783388/
END:VEVENT
BEGIN:VEVENT
UID:b1516f9cbab03063@ausschreibungsradar.com
DTSTAMP:20260426T011105Z
DTSTART;VALUE=DATE:20240329
DTEND;VALUE=DATE:20240329
SUMMARY:Ausschreibung — Deutschland – Dienstleistungen von Architektur-\, Konstruktio
DESCRIPTION:Phase: Ausschreibung | Beschreibung: Offizielle Ausschreibung mit Bieterfrist. | Link: https://ausschreibungsradar.com/ausschreibung/ted-188793-2024/ | Geschätzter Wert: 240000 €
URL:https://ausschreibungsradar.com/ausschreibung/ted-188793-2024/
END:VEVENT
END:VCALENDAR
