BEGIN:VCALENDAR
VERSION:2.0
PRODID:-//AusschreibungsRadar//Timeline//DE
CALSCALE:GREGORIAN
METHOD:PUBLISH
X-WR-CALNAME:Projekt Deutschland-Keltern: Installation von Aufzügen
X-WR-TIMEZONE:Europe/Berlin
BEGIN:VEVENT
UID:edbe884c5cd1bf67@ausschreibungsradar.com
DTSTAMP:20260425T154923Z
DTSTART;VALUE=DATE:20230331
DTEND;VALUE=DATE:20230331
SUMMARY:Ausschreibung — Deutschland-Keltern: Installation von Aufzügen
DESCRIPTION:Phase: Ausschreibung | Beschreibung: Offizielle Ausschreibung mit Bieterfrist. | Link: https://ausschreibungsradar.com/ausschreibung/ted-194000-2023/ | Geschätzter Wert: 41931 €
URL:https://ausschreibungsradar.com/ausschreibung/ted-194000-2023/
END:VEVENT
BEGIN:VEVENT
UID:536a382ab7c5f63d@ausschreibungsradar.com
DTSTAMP:20260425T154923Z
DTSTART;VALUE=DATE:20230331
DTEND;VALUE=DATE:20230331
SUMMARY:Ausschreibung — Deutschland-Keltern: Installation von Aufzügen
DESCRIPTION:Phase: Ausschreibung | Beschreibung: Offizielle Ausschreibung mit Bieterfrist. | Link: https://ausschreibungsradar.com/ausschreibung/ted-191420-2023/
URL:https://ausschreibungsradar.com/ausschreibung/ted-191420-2023/
END:VEVENT
END:VCALENDAR
