BEGIN:VCALENDAR
VERSION:2.0
PRODID:-//AusschreibungsRadar//Timeline//DE
CALSCALE:GREGORIAN
METHOD:PUBLISH
X-WR-CALNAME:Projekt Deutschland – IT-Dienste: Beratung, Software-Entwicklung, In
X-WR-TIMEZONE:Europe/Berlin
BEGIN:VEVENT
UID:0c41caa02662fc85@ausschreibungsradar.com
DTSTAMP:20260426T013153Z
DTSTART;VALUE=DATE:20240416
DTEND;VALUE=DATE:20240416
SUMMARY:Ausschreibung — Deutschland – IT-Dienste: Beratung\, Software-Entwicklung\, In
DESCRIPTION:Phase: Ausschreibung | Beschreibung: Offizielle Ausschreibung mit Bieterfrist. | Link: https://ausschreibungsradar.com/ausschreibung/ted-222214-2024/
URL:https://ausschreibungsradar.com/ausschreibung/ted-222214-2024/
END:VEVENT
BEGIN:VEVENT
UID:1052e8cfc8d86324@ausschreibungsradar.com
DTSTAMP:20260426T013153Z
DTSTART;VALUE=DATE:20240515
DTEND;VALUE=DATE:20240515
SUMMARY:Ausschreibung — Deutschland – IT-Dienste: Beratung\, Software-Entwicklung\, In
DESCRIPTION:Phase: Ausschreibung | Beschreibung: Offizielle Ausschreibung mit Bieterfrist. | Link: https://ausschreibungsradar.com/ausschreibung/ted-287301-2024/
URL:https://ausschreibungsradar.com/ausschreibung/ted-287301-2024/
END:VEVENT
END:VCALENDAR
