BEGIN:VCALENDAR
VERSION:2.0
PRODID:-//AusschreibungsRadar//Timeline//DE
CALSCALE:GREGORIAN
METHOD:PUBLISH
X-WR-CALNAME:Projekt Deutschland – Öffentlicher Verkehr (Straße) – Personenbeförd
X-WR-TIMEZONE:Europe/Berlin
BEGIN:VEVENT
UID:c85f05a041f915af@ausschreibungsradar.com
DTSTAMP:20260425T105423Z
DTSTART;VALUE=DATE:20260407
DTEND;VALUE=DATE:20260407
SUMMARY:Zuschlag — Deutschland – Öffentlicher Verkehr (Straße) – Personenbeförd
DESCRIPTION:Phase: Zuschlag | Beschreibung: Vergabeergebnis — Auftrag wurde erteilt oder Verfahren beendet. | Link: https://ausschreibungsradar.com/ausschreibung/ted-233925-2026/
URL:https://ausschreibungsradar.com/ausschreibung/ted-233925-2026/
END:VEVENT
BEGIN:VEVENT
UID:2c548bb47f4f42cf@ausschreibungsradar.com
DTSTAMP:20260425T105423Z
DTSTART;VALUE=DATE:20260420
DTEND;VALUE=DATE:20260420
SUMMARY:Zuschlag — Deutschland – Öffentlicher Verkehr (Straße) – Personenbeförd
DESCRIPTION:Phase: Zuschlag | Beschreibung: Vergabeergebnis — Auftrag wurde erteilt oder Verfahren beendet. | Link: https://ausschreibungsradar.com/ausschreibung/ted-266287-2026/
URL:https://ausschreibungsradar.com/ausschreibung/ted-266287-2026/
END:VEVENT
END:VCALENDAR
