BEGIN:VCALENDAR
VERSION:2.0
PRODID:-//AusschreibungsRadar//Timeline//DE
CALSCALE:GREGORIAN
METHOD:PUBLISH
X-WR-CALNAME:Projekt Deutschland-Altenkirchen: Bauarbeiten für Schwimmbäder
X-WR-TIMEZONE:Europe/Berlin
BEGIN:VEVENT
UID:f019365cc1595067@ausschreibungsradar.com
DTSTAMP:20260426T032205Z
DTSTART;VALUE=DATE:20230407
DTEND;VALUE=DATE:20230407
SUMMARY:Zuschlag — Deutschland-Altenkirchen: Bauarbeiten für Schwimmbäder
DESCRIPTION:Phase: Zuschlag | Beschreibung: Vergabeergebnis — Auftrag wurde erteilt oder Verfahren beendet. | Link: https://ausschreibungsradar.com/ausschreibung/ted-206501-2023/
URL:https://ausschreibungsradar.com/ausschreibung/ted-206501-2023/
END:VEVENT
BEGIN:VEVENT
UID:ee3a1d5620c75a73@ausschreibungsradar.com
DTSTAMP:20260426T032205Z
DTSTART;VALUE=DATE:20230426
DTEND;VALUE=DATE:20230426
SUMMARY:Ausschreibung — Deutschland-Altenkirchen: Bauarbeiten für Schwimmbäder
DESCRIPTION:Phase: Ausschreibung | Beschreibung: Offizielle Ausschreibung mit Bieterfrist. | Link: https://ausschreibungsradar.com/ausschreibung/ted-249149-2023/
URL:https://ausschreibungsradar.com/ausschreibung/ted-249149-2023/
END:VEVENT
END:VCALENDAR
