BEGIN:VCALENDAR
VERSION:2.0
PRODID:-//AusschreibungsRadar//Timeline//DE
CALSCALE:GREGORIAN
METHOD:PUBLISH
X-WR-CALNAME:Projekt Deutschland – Reinigungsdienste – Unterhalts- und Grundreini
X-WR-TIMEZONE:Europe/Berlin
BEGIN:VEVENT
UID:5fd17f6900440c95@ausschreibungsradar.com
DTSTAMP:20260425T185831Z
DTSTART;VALUE=DATE:20240429
DTEND;VALUE=DATE:20240429
SUMMARY:Zuschlag — Deutschland – Reinigungsdienste – Unterhalts- und Grundreini
DESCRIPTION:Phase: Zuschlag | Beschreibung: Vergabeergebnis — Auftrag wurde erteilt oder Verfahren beendet. | Link: https://ausschreibungsradar.com/ausschreibung/a374fa0d-33f6-40f8-ab05-d808a5d1fa62/
URL:https://ausschreibungsradar.com/ausschreibung/a374fa0d-33f6-40f8-ab05-d808a5d1fa62/
END:VEVENT
BEGIN:VEVENT
UID:88a2e4e7b9558fae@ausschreibungsradar.com
DTSTAMP:20260425T185831Z
DTSTART;VALUE=DATE:20240430
DTEND;VALUE=DATE:20240430
SUMMARY:Zuschlag — Deutschland – Reinigungsdienste – Unterhalts- und Grundreini
DESCRIPTION:Phase: Zuschlag | Beschreibung: Vergabeergebnis — Auftrag wurde erteilt oder Verfahren beendet. | Link: https://ausschreibungsradar.com/ausschreibung/ted-256799-2024/
URL:https://ausschreibungsradar.com/ausschreibung/ted-256799-2024/
END:VEVENT
END:VCALENDAR
