BEGIN:VCALENDAR
VERSION:2.0
PRODID:-//AusschreibungsRadar//Timeline//DE
CALSCALE:GREGORIAN
METHOD:PUBLISH
X-WR-CALNAME:Projekt Deutschland – Dienstleistungen von Architekturbüros – Umbau 
X-WR-TIMEZONE:Europe/Berlin
BEGIN:VEVENT
UID:f921db979acf0beb@ausschreibungsradar.com
DTSTAMP:20260426T004016Z
DTSTART;VALUE=DATE:20240429
DTEND;VALUE=DATE:20240429
SUMMARY:Ausschreibung — Deutschland – Dienstleistungen von Architekturbüros – Umbau 
DESCRIPTION:Phase: Ausschreibung | Beschreibung: Offizielle Ausschreibung mit Bieterfrist. | Link: https://ausschreibungsradar.com/ausschreibung/bbf546f1-4e54-4633-a8f5-82499ee18856/
URL:https://ausschreibungsradar.com/ausschreibung/bbf546f1-4e54-4633-a8f5-82499ee18856/
END:VEVENT
BEGIN:VEVENT
UID:9855a603eb3afdea@ausschreibungsradar.com
DTSTAMP:20260426T004016Z
DTSTART;VALUE=DATE:20240430
DTEND;VALUE=DATE:20240430
SUMMARY:Ausschreibung — Deutschland – Dienstleistungen von Architekturbüros – Umbau 
DESCRIPTION:Phase: Ausschreibung | Beschreibung: Offizielle Ausschreibung mit Bieterfrist. | Link: https://ausschreibungsradar.com/ausschreibung/ted-257728-2024/
URL:https://ausschreibungsradar.com/ausschreibung/ted-257728-2024/
END:VEVENT
END:VCALENDAR
