BEGIN:VCALENDAR
VERSION:2.0
PRODID:-//AusschreibungsRadar//Timeline//DE
CALSCALE:GREGORIAN
METHOD:PUBLISH
X-WR-CALNAME:Projekt Deutschland-Luckenwalde: Installateurarbeiten
X-WR-TIMEZONE:Europe/Berlin
BEGIN:VEVENT
UID:3c3c148ff270d37d@ausschreibungsradar.com
DTSTAMP:20260424T190257Z
DTSTART;VALUE=DATE:20230503
DTEND;VALUE=DATE:20230503
SUMMARY:Zuschlag — Deutschland-Luckenwalde: Installateurarbeiten
DESCRIPTION:Phase: Zuschlag | Beschreibung: Vergabeergebnis — Auftrag wurde erteilt oder Verfahren beendet. | Link: https://ausschreibungsradar.com/ausschreibung/ted-263239-2023/ | Geschätzter Wert: 1507268 €
URL:https://ausschreibungsradar.com/ausschreibung/ted-263239-2023/
END:VEVENT
BEGIN:VEVENT
UID:4ee5d47bf507b7ad@ausschreibungsradar.com
DTSTAMP:20260424T190257Z
DTSTART;VALUE=DATE:20230503
DTEND;VALUE=DATE:20230503
SUMMARY:Zuschlag — Deutschland-Luckenwalde: Installateurarbeiten
DESCRIPTION:Phase: Zuschlag | Beschreibung: Vergabeergebnis — Auftrag wurde erteilt oder Verfahren beendet. | Link: https://ausschreibungsradar.com/ausschreibung/ted-265933-2023/
URL:https://ausschreibungsradar.com/ausschreibung/ted-265933-2023/
END:VEVENT
END:VCALENDAR
