BEGIN:VCALENDAR
VERSION:2.0
PRODID:-//AusschreibungsRadar//Timeline//DE
CALSCALE:GREGORIAN
METHOD:PUBLISH
X-WR-CALNAME:Projekt Deutschland – IT-Dienste: Beratung, Software-Entwicklung, In
X-WR-TIMEZONE:Europe/Berlin
BEGIN:VEVENT
UID:17774460ce5fe00d@ausschreibungsradar.com
DTSTAMP:20260424T213016Z
DTSTART;VALUE=DATE:20260416
DTEND;VALUE=DATE:20260416
SUMMARY:Ausschreibung — Deutschland – IT-Dienste: Beratung\, Software-Entwicklung\, In
DESCRIPTION:Phase: Ausschreibung | Beschreibung: Offizielle Ausschreibung mit Bieterfrist. | Link: https://ausschreibungsradar.com/ausschreibung/dcd7cfa8-9765-480a-8227-e7a4301c3ddc/
URL:https://ausschreibungsradar.com/ausschreibung/dcd7cfa8-9765-480a-8227-e7a4301c3ddc/
END:VEVENT
BEGIN:VEVENT
UID:e3d91bb8b63d036d@ausschreibungsradar.com
DTSTAMP:20260424T213016Z
DTSTART;VALUE=DATE:20260417
DTEND;VALUE=DATE:20260417
SUMMARY:Ausschreibung — Deutschland – IT-Dienste: Beratung\, Software-Entwicklung\, In
DESCRIPTION:Phase: Ausschreibung | Beschreibung: Offizielle Ausschreibung mit Bieterfrist. | Link: https://ausschreibungsradar.com/ausschreibung/ted-263748-2026/ | Geschätzter Wert: 7028900 €
URL:https://ausschreibungsradar.com/ausschreibung/ted-263748-2026/
END:VEVENT
END:VCALENDAR
