BEGIN:VCALENDAR
VERSION:2.0
PRODID:-//AusschreibungsRadar//Timeline//DE
CALSCALE:GREGORIAN
METHOD:PUBLISH
X-WR-CALNAME:Projekt Deutschland – Straßeninstandhaltungsfahrzeuge – Rahmenverein
X-WR-TIMEZONE:Europe/Berlin
BEGIN:VEVENT
UID:038c1145d6e8108e@ausschreibungsradar.com
DTSTAMP:20260424T004447Z
DTSTART;VALUE=DATE:20260320
DTEND;VALUE=DATE:20260320
SUMMARY:Ausschreibung — Deutschland – Straßeninstandhaltungsfahrzeuge – Rahmenverein
DESCRIPTION:Phase: Ausschreibung | Beschreibung: Offizielle Ausschreibung mit Bieterfrist. | Link: https://ausschreibungsradar.com/ausschreibung/e7e4652c-f421-45b2-bd47-a856128ac5c6/
URL:https://ausschreibungsradar.com/ausschreibung/e7e4652c-f421-45b2-bd47-a856128ac5c6/
END:VEVENT
BEGIN:VEVENT
UID:0c90677898a699a9@ausschreibungsradar.com
DTSTAMP:20260424T004447Z
DTSTART;VALUE=DATE:20260320
DTEND;VALUE=DATE:20260320
SUMMARY:Ausschreibung — Deutschland – Straßeninstandhaltungsfahrzeuge – Rahmenverein
DESCRIPTION:Phase: Ausschreibung | Beschreibung: Offizielle Ausschreibung mit Bieterfrist. | Link: https://ausschreibungsradar.com/ausschreibung/236bdcf5-523b-4e13-ad9b-9bbea0412fc9/
URL:https://ausschreibungsradar.com/ausschreibung/236bdcf5-523b-4e13-ad9b-9bbea0412fc9/
END:VEVENT
BEGIN:VEVENT
UID:4d6524820ca74c00@ausschreibungsradar.com
DTSTAMP:20260424T004447Z
DTSTART;VALUE=DATE:20260320
DTEND;VALUE=DATE:20260320
SUMMARY:Ausschreibung — Deutschland – Straßeninstandhaltungsfahrzeuge – Rahmenverein
DESCRIPTION:Phase: Ausschreibung | Beschreibung: Offizielle Ausschreibung mit Bieterfrist. | Link: https://ausschreibungsradar.com/ausschreibung/24706902-e05c-48c9-a8f2-ce9998a27f67/
URL:https://ausschreibungsradar.com/ausschreibung/24706902-e05c-48c9-a8f2-ce9998a27f67/
END:VEVENT
BEGIN:VEVENT
UID:17b591ff62dc3049@ausschreibungsradar.com
DTSTAMP:20260424T004447Z
DTSTART;VALUE=DATE:20260417
DTEND;VALUE=DATE:20260417
SUMMARY:Ausschreibung — Deutschland – Straßeninstandhaltungsfahrzeuge – Rahmenverein
DESCRIPTION:Phase: Ausschreibung | Beschreibung: Offizielle Ausschreibung mit Bieterfrist. | Link: https://ausschreibungsradar.com/ausschreibung/ted-264704-2026/
URL:https://ausschreibungsradar.com/ausschreibung/ted-264704-2026/
END:VEVENT
END:VCALENDAR
