BEGIN:VCALENDAR
VERSION:2.0
PRODID:-//AusschreibungsRadar//Timeline//DE
CALSCALE:GREGORIAN
METHOD:PUBLISH
X-WR-CALNAME:Projekt Deutschland – Arzneimittel – Arzneimittel und Impfstoffe 202
X-WR-TIMEZONE:Europe/Berlin
BEGIN:VEVENT
UID:f1b3e18e42cff301@ausschreibungsradar.com
DTSTAMP:20260425T111103Z
DTSTART;VALUE=DATE:20260324
DTEND;VALUE=DATE:20260324
SUMMARY:Ausschreibung — Deutschland – Arzneimittel – Arzneimittel und Impfstoffe 202
DESCRIPTION:Phase: Ausschreibung | Beschreibung: Offizielle Ausschreibung mit Bieterfrist. | Link: https://ausschreibungsradar.com/ausschreibung/e75df238-9714-414a-8c71-a927430b42f7/
URL:https://ausschreibungsradar.com/ausschreibung/e75df238-9714-414a-8c71-a927430b42f7/
END:VEVENT
BEGIN:VEVENT
UID:7335f496e12e07f2@ausschreibungsradar.com
DTSTAMP:20260425T111103Z
DTSTART;VALUE=DATE:20260417
DTEND;VALUE=DATE:20260417
SUMMARY:Zuschlag — Deutschland – Arzneimittel – Arzneimittel und Impfstoffe 202
DESCRIPTION:Phase: Zuschlag | Beschreibung: Vergabeergebnis — Auftrag wurde erteilt oder Verfahren beendet. | Link: https://ausschreibungsradar.com/ausschreibung/c26317a4-223e-4670-b376-56ec13db4e20/
URL:https://ausschreibungsradar.com/ausschreibung/c26317a4-223e-4670-b376-56ec13db4e20/
END:VEVENT
BEGIN:VEVENT
UID:5061ee011cdfbaed@ausschreibungsradar.com
DTSTAMP:20260425T111103Z
DTSTART;VALUE=DATE:20260420
DTEND;VALUE=DATE:20260420
SUMMARY:Zuschlag — Deutschland – Arzneimittel – Arzneimittel und Impfstoffe 202
DESCRIPTION:Phase: Zuschlag | Beschreibung: Vergabeergebnis — Auftrag wurde erteilt oder Verfahren beendet. | Link: https://ausschreibungsradar.com/ausschreibung/ted-265965-2026/ | Geschätzter Wert: 9180000 €
URL:https://ausschreibungsradar.com/ausschreibung/ted-265965-2026/
END:VEVENT
END:VCALENDAR
