BEGIN:VCALENDAR
VERSION:2.0
PRODID:-//AusschreibungsRadar//Timeline//DE
CALSCALE:GREGORIAN
METHOD:PUBLISH
X-WR-CALNAME:Projekt Deutschland – Fassadenarbeiten – Erweiterung Mittelschule
X-WR-TIMEZONE:Europe/Berlin
BEGIN:VEVENT
UID:037bf46294d9dde9@ausschreibungsradar.com
DTSTAMP:20260425T014644Z
DTSTART;VALUE=DATE:20260407
DTEND;VALUE=DATE:20260407
SUMMARY:Zuschlag — Deutschland – Fassadenarbeiten – Erweiterung Mittelschule
DESCRIPTION:Phase: Zuschlag | Beschreibung: Vergabeergebnis — Auftrag wurde erteilt oder Verfahren beendet. | Link: https://ausschreibungsradar.com/ausschreibung/244286e3-c15e-4a2e-a718-0e56c6c60775/
URL:https://ausschreibungsradar.com/ausschreibung/244286e3-c15e-4a2e-a718-0e56c6c60775/
END:VEVENT
BEGIN:VEVENT
UID:ac4294a270e89253@ausschreibungsradar.com
DTSTAMP:20260425T014644Z
DTSTART;VALUE=DATE:20260420
DTEND;VALUE=DATE:20260420
SUMMARY:Ausschreibung — Deutschland – Fassadenarbeiten – Erweiterung Mittelschule
DESCRIPTION:Phase: Ausschreibung | Beschreibung: Offizielle Ausschreibung mit Bieterfrist. | Link: https://ausschreibungsradar.com/ausschreibung/ted-266327-2026/
URL:https://ausschreibungsradar.com/ausschreibung/ted-266327-2026/
END:VEVENT
BEGIN:VEVENT
UID:3d33b4beff9e1f40@ausschreibungsradar.com
DTSTAMP:20260425T014644Z
DTSTART;VALUE=DATE:20260420
DTEND;VALUE=DATE:20260420
SUMMARY:Ausschreibung — Deutschland – Fassadenarbeiten – Erweiterung Mittelschule
DESCRIPTION:Phase: Ausschreibung | Beschreibung: Offizielle Ausschreibung mit Bieterfrist. | Link: https://ausschreibungsradar.com/ausschreibung/0216268c-3ce9-4b78-bb33-38f4044a9685/
URL:https://ausschreibungsradar.com/ausschreibung/0216268c-3ce9-4b78-bb33-38f4044a9685/
END:VEVENT
END:VCALENDAR
