BEGIN:VCALENDAR
VERSION:2.0
PRODID:-//AusschreibungsRadar//Timeline//DE
CALSCALE:GREGORIAN
METHOD:PUBLISH
X-WR-CALNAME:Projekt Deutschland – Medizinische Geräte – OP-Roboter ROSA zur Unte
X-WR-TIMEZONE:Europe/Berlin
BEGIN:VEVENT
UID:6bae033330413680@ausschreibungsradar.com
DTSTAMP:20260424T133001Z
DTSTART;VALUE=DATE:20260417
DTEND;VALUE=DATE:20260417
SUMMARY:Direktvergabe (VEAT) — Deutschland – Medizinische Geräte – OP-Roboter ROSA zur Unte
DESCRIPTION:Phase: Direktvergabe (VEAT) | Beschreibung: Ankündigung einer Direktvergabe mit 10-Tage-Stillhaltefrist. | Link: https://ausschreibungsradar.com/ausschreibung/244e924d-3e3e-4cf2-8f8c-757ba7d8e0ae/
URL:https://ausschreibungsradar.com/ausschreibung/244e924d-3e3e-4cf2-8f8c-757ba7d8e0ae/
END:VEVENT
BEGIN:VEVENT
UID:547f6d37b549dc04@ausschreibungsradar.com
DTSTAMP:20260424T133001Z
DTSTART;VALUE=DATE:20260420
DTEND;VALUE=DATE:20260420
SUMMARY:Direktvergabe (VEAT) — Deutschland – Medizinische Geräte – OP-Roboter ROSA zur Unte
DESCRIPTION:Phase: Direktvergabe (VEAT) | Beschreibung: Ankündigung einer Direktvergabe mit 10-Tage-Stillhaltefrist. | Link: https://ausschreibungsradar.com/ausschreibung/ted-266802-2026/
URL:https://ausschreibungsradar.com/ausschreibung/ted-266802-2026/
END:VEVENT
END:VCALENDAR
