BEGIN:VCALENDAR
VERSION:2.0
PRODID:-//AusschreibungsRadar//Timeline//DE
CALSCALE:GREGORIAN
METHOD:PUBLISH
X-WR-CALNAME:Projekt Deutschland – Bodenbelags- und Wandverkleidungsarbeiten – HA
X-WR-TIMEZONE:Europe/Berlin
BEGIN:VEVENT
UID:060400897cc32a9e@ausschreibungsradar.com
DTSTAMP:20260424T190434Z
DTSTART;VALUE=DATE:20260417
DTEND;VALUE=DATE:20260417
SUMMARY:Zuschlag — Deutschland – Bodenbelags- und Wandverkleidungsarbeiten – HA
DESCRIPTION:Phase: Zuschlag | Beschreibung: Vergabeergebnis — Auftrag wurde erteilt oder Verfahren beendet. | Link: https://ausschreibungsradar.com/ausschreibung/235bf2ca-7189-4830-bcb5-835dbaa0e13f/
URL:https://ausschreibungsradar.com/ausschreibung/235bf2ca-7189-4830-bcb5-835dbaa0e13f/
END:VEVENT
BEGIN:VEVENT
UID:cff0404ecd9f3dfb@ausschreibungsradar.com
DTSTAMP:20260424T190434Z
DTSTART;VALUE=DATE:20260420
DTEND;VALUE=DATE:20260420
SUMMARY:Zuschlag — Deutschland – Bodenbelags- und Wandverkleidungsarbeiten – HA
DESCRIPTION:Phase: Zuschlag | Beschreibung: Vergabeergebnis — Auftrag wurde erteilt oder Verfahren beendet. | Link: https://ausschreibungsradar.com/ausschreibung/ted-267179-2026/ | Geschätzter Wert: 47687 €
URL:https://ausschreibungsradar.com/ausschreibung/ted-267179-2026/
END:VEVENT
END:VCALENDAR
