BEGIN:VCALENDAR
VERSION:2.0
PRODID:-//AusschreibungsRadar//Timeline//DE
CALSCALE:GREGORIAN
METHOD:PUBLISH
X-WR-CALNAME:Projekt Deutschland – Nieder- und Mittelspannungskabel – Lieferung v
X-WR-TIMEZONE:Europe/Berlin
BEGIN:VEVENT
UID:421933270c493da5@ausschreibungsradar.com
DTSTAMP:20260424T090801Z
DTSTART;VALUE=DATE:20260417
DTEND;VALUE=DATE:20260417
SUMMARY:Ausschreibung — Deutschland – Nieder- und Mittelspannungskabel – Lieferung v
DESCRIPTION:Phase: Ausschreibung | Beschreibung: Offizielle Ausschreibung mit Bieterfrist. | Link: https://ausschreibungsradar.com/ausschreibung/991b2b48-583f-4fe2-8817-e964c95f9407/
URL:https://ausschreibungsradar.com/ausschreibung/991b2b48-583f-4fe2-8817-e964c95f9407/
END:VEVENT
BEGIN:VEVENT
UID:3cb7cc3d031fe44b@ausschreibungsradar.com
DTSTAMP:20260424T090801Z
DTSTART;VALUE=DATE:20260420
DTEND;VALUE=DATE:20260420
SUMMARY:Ausschreibung — Deutschland – Nieder- und Mittelspannungskabel – Lieferung v
DESCRIPTION:Phase: Ausschreibung | Beschreibung: Offizielle Ausschreibung mit Bieterfrist. | Link: https://ausschreibungsradar.com/ausschreibung/ted-267742-2026/
URL:https://ausschreibungsradar.com/ausschreibung/ted-267742-2026/
END:VEVENT
END:VCALENDAR
