BEGIN:VCALENDAR
VERSION:2.0
PRODID:-//AusschreibungsRadar//Timeline//DE
CALSCALE:GREGORIAN
METHOD:PUBLISH
X-WR-CALNAME:Projekt Deutschland – Installation von kältetechnischen Anlagen – Ge
X-WR-TIMEZONE:Europe/Berlin
BEGIN:VEVENT
UID:96f5f5a92f338886@ausschreibungsradar.com
DTSTAMP:20260424T090431Z
DTSTART;VALUE=DATE:20260414
DTEND;VALUE=DATE:20260414
SUMMARY:Zuschlag — Deutschland – Installation von kältetechnischen Anlagen – Ge
DESCRIPTION:Phase: Zuschlag | Beschreibung: Vergabeergebnis — Auftrag wurde erteilt oder Verfahren beendet. | Link: https://ausschreibungsradar.com/ausschreibung/674afe5d-a9e3-4bbd-a3fa-74cd45ec8a8a/
URL:https://ausschreibungsradar.com/ausschreibung/674afe5d-a9e3-4bbd-a3fa-74cd45ec8a8a/
END:VEVENT
BEGIN:VEVENT
UID:f68362502e4ea7a0@ausschreibungsradar.com
DTSTAMP:20260424T090431Z
DTSTART;VALUE=DATE:20260414
DTEND;VALUE=DATE:20260414
SUMMARY:Zuschlag — Deutschland – Installation von kältetechnischen Anlagen – Ge
DESCRIPTION:Phase: Zuschlag | Beschreibung: Vergabeergebnis — Auftrag wurde erteilt oder Verfahren beendet. | Link: https://ausschreibungsradar.com/ausschreibung/80c2ff77-f1dc-40e0-95e0-6cac241ab056/
URL:https://ausschreibungsradar.com/ausschreibung/80c2ff77-f1dc-40e0-95e0-6cac241ab056/
END:VEVENT
BEGIN:VEVENT
UID:4074f000edaf83a3@ausschreibungsradar.com
DTSTAMP:20260424T090431Z
DTSTART;VALUE=DATE:20260417
DTEND;VALUE=DATE:20260417
SUMMARY:Zuschlag — Deutschland – Installation von kältetechnischen Anlagen – Ge
DESCRIPTION:Phase: Zuschlag | Beschreibung: Vergabeergebnis — Auftrag wurde erteilt oder Verfahren beendet. | Link: https://ausschreibungsradar.com/ausschreibung/4a068ab6-af97-477f-8103-b9cc72e70d8d/
URL:https://ausschreibungsradar.com/ausschreibung/4a068ab6-af97-477f-8103-b9cc72e70d8d/
END:VEVENT
BEGIN:VEVENT
UID:c2eba9ea26bbb852@ausschreibungsradar.com
DTSTAMP:20260424T090431Z
DTSTART;VALUE=DATE:20260417
DTEND;VALUE=DATE:20260417
SUMMARY:Zuschlag — Deutschland – Installation von kältetechnischen Anlagen – Ge
DESCRIPTION:Phase: Zuschlag | Beschreibung: Vergabeergebnis — Auftrag wurde erteilt oder Verfahren beendet. | Link: https://ausschreibungsradar.com/ausschreibung/4baa2802-f617-4498-b208-97f27167bb4d/
URL:https://ausschreibungsradar.com/ausschreibung/4baa2802-f617-4498-b208-97f27167bb4d/
END:VEVENT
BEGIN:VEVENT
UID:79c32c8dca0edcf6@ausschreibungsradar.com
DTSTAMP:20260424T090431Z
DTSTART;VALUE=DATE:20260420
DTEND;VALUE=DATE:20260420
SUMMARY:Zuschlag — Deutschland – Installation von kältetechnischen Anlagen – Ge
DESCRIPTION:Phase: Zuschlag | Beschreibung: Vergabeergebnis — Auftrag wurde erteilt oder Verfahren beendet. | Link: https://ausschreibungsradar.com/ausschreibung/ted-267935-2026/
URL:https://ausschreibungsradar.com/ausschreibung/ted-267935-2026/
END:VEVENT
BEGIN:VEVENT
UID:f99280943536f634@ausschreibungsradar.com
DTSTAMP:20260424T090431Z
DTSTART;VALUE=DATE:20260420
DTEND;VALUE=DATE:20260420
SUMMARY:Zuschlag — Deutschland – Installation von kältetechnischen Anlagen – Ge
DESCRIPTION:Phase: Zuschlag | Beschreibung: Vergabeergebnis — Auftrag wurde erteilt oder Verfahren beendet. | Link: https://ausschreibungsradar.com/ausschreibung/ted-267660-2026/
URL:https://ausschreibungsradar.com/ausschreibung/ted-267660-2026/
END:VEVENT
END:VCALENDAR
