BEGIN:VCALENDAR
VERSION:2.0
PRODID:-//AusschreibungsRadar//Timeline//DE
CALSCALE:GREGORIAN
METHOD:PUBLISH
X-WR-CALNAME:Projekt Deutschland – Dienstleistungen von Ingenieurbüros – B 6n PA 
X-WR-TIMEZONE:Europe/Berlin
BEGIN:VEVENT
UID:581c940237a96a5a@ausschreibungsradar.com
DTSTAMP:20260424T133137Z
DTSTART;VALUE=DATE:20260417
DTEND;VALUE=DATE:20260417
SUMMARY:Zuschlag — Deutschland – Dienstleistungen von Ingenieurbüros – B 6n PA 
DESCRIPTION:Phase: Zuschlag | Beschreibung: Vergabeergebnis — Auftrag wurde erteilt oder Verfahren beendet. | Link: https://ausschreibungsradar.com/ausschreibung/b1f554ff-7f46-4f89-b983-a04ed7227cec/
URL:https://ausschreibungsradar.com/ausschreibung/b1f554ff-7f46-4f89-b983-a04ed7227cec/
END:VEVENT
BEGIN:VEVENT
UID:08b38d68afaaa9e2@ausschreibungsradar.com
DTSTAMP:20260424T133137Z
DTSTART;VALUE=DATE:20260420
DTEND;VALUE=DATE:20260420
SUMMARY:Zuschlag — Deutschland – Dienstleistungen von Ingenieurbüros – B 6n PA 
DESCRIPTION:Phase: Zuschlag | Beschreibung: Vergabeergebnis — Auftrag wurde erteilt oder Verfahren beendet. | Link: https://ausschreibungsradar.com/ausschreibung/ted-269461-2026/ | Geschätzter Wert: -1 €
URL:https://ausschreibungsradar.com/ausschreibung/ted-269461-2026/
END:VEVENT
END:VCALENDAR
