BEGIN:VCALENDAR
VERSION:2.0
PRODID:-//AusschreibungsRadar//Timeline//DE
CALSCALE:GREGORIAN
METHOD:PUBLISH
X-WR-CALNAME:Projekt Deutschland – Biege-, Falz-, Richt- oder Planiermaschinen – 
X-WR-TIMEZONE:Europe/Berlin
BEGIN:VEVENT
UID:aab2af71f04ebdbd@ausschreibungsradar.com
DTSTAMP:20260424T182456Z
DTSTART;VALUE=DATE:20260420
DTEND;VALUE=DATE:20260420
SUMMARY:Zuschlag — Deutschland – Biege-\, Falz-\, Richt- oder Planiermaschinen – 
DESCRIPTION:Phase: Zuschlag | Beschreibung: Vergabeergebnis — Auftrag wurde erteilt oder Verfahren beendet. | Link: https://ausschreibungsradar.com/ausschreibung/4fc954e3-89e2-4a33-b932-e473a1761bdc/
URL:https://ausschreibungsradar.com/ausschreibung/4fc954e3-89e2-4a33-b932-e473a1761bdc/
END:VEVENT
BEGIN:VEVENT
UID:d1ab392c8db02c89@ausschreibungsradar.com
DTSTAMP:20260424T182456Z
DTSTART;VALUE=DATE:20260421
DTEND;VALUE=DATE:20260421
SUMMARY:Zuschlag — Deutschland – Biege-\, Falz-\, Richt- oder Planiermaschinen – 
DESCRIPTION:Phase: Zuschlag | Beschreibung: Vergabeergebnis — Auftrag wurde erteilt oder Verfahren beendet. | Link: https://ausschreibungsradar.com/ausschreibung/ted-270416-2026/
URL:https://ausschreibungsradar.com/ausschreibung/ted-270416-2026/
END:VEVENT
END:VCALENDAR
