BEGIN:VCALENDAR
VERSION:2.0
PRODID:-//AusschreibungsRadar//Timeline//DE
CALSCALE:GREGORIAN
METHOD:PUBLISH
X-WR-CALNAME:Projekt Deutschland – Gipskartonarbeiten – VE18 Trockenabu - Grundsc
X-WR-TIMEZONE:Europe/Berlin
BEGIN:VEVENT
UID:7d2a3e8b951825e3@ausschreibungsradar.com
DTSTAMP:20260424T090417Z
DTSTART;VALUE=DATE:20260420
DTEND;VALUE=DATE:20260420
SUMMARY:Ausschreibung — Deutschland – Gipskartonarbeiten – VE18 Trockenabu - Grundsc
DESCRIPTION:Phase: Ausschreibung | Beschreibung: Offizielle Ausschreibung mit Bieterfrist. | Link: https://ausschreibungsradar.com/ausschreibung/4b4cb3b1-c349-4dd7-a711-6bfd67260c04/
URL:https://ausschreibungsradar.com/ausschreibung/4b4cb3b1-c349-4dd7-a711-6bfd67260c04/
END:VEVENT
BEGIN:VEVENT
UID:f63129dd9e938c08@ausschreibungsradar.com
DTSTAMP:20260424T090417Z
DTSTART;VALUE=DATE:20260421
DTEND;VALUE=DATE:20260421
SUMMARY:Ausschreibung — Deutschland – Gipskartonarbeiten – VE18 Trockenabu - Grundsc
DESCRIPTION:Phase: Ausschreibung | Beschreibung: Offizielle Ausschreibung mit Bieterfrist. | Link: https://ausschreibungsradar.com/ausschreibung/ted-270931-2026/
URL:https://ausschreibungsradar.com/ausschreibung/ted-270931-2026/
END:VEVENT
END:VCALENDAR
