BEGIN:VCALENDAR
VERSION:2.0
PRODID:-//AusschreibungsRadar//Timeline//DE
CALSCALE:GREGORIAN
METHOD:PUBLISH
X-WR-CALNAME:Projekt Deutschland – Dienstleistungen von Architektur-, Konstruktio
X-WR-TIMEZONE:Europe/Berlin
BEGIN:VEVENT
UID:ebade2a2bcffdc64@ausschreibungsradar.com
DTSTAMP:20260424T182515Z
DTSTART;VALUE=DATE:20260414
DTEND;VALUE=DATE:20260414
SUMMARY:Zuschlag — Deutschland – Dienstleistungen von Architektur-\, Konstruktio
DESCRIPTION:Phase: Zuschlag | Beschreibung: Vergabeergebnis — Auftrag wurde erteilt oder Verfahren beendet. | Link: https://ausschreibungsradar.com/ausschreibung/514b352a-5d10-414b-b876-b240de1e851e/
URL:https://ausschreibungsradar.com/ausschreibung/514b352a-5d10-414b-b876-b240de1e851e/
END:VEVENT
BEGIN:VEVENT
UID:32b5eda155ee1ab0@ausschreibungsradar.com
DTSTAMP:20260424T182515Z
DTSTART;VALUE=DATE:20260421
DTEND;VALUE=DATE:20260421
SUMMARY:Zuschlag — Deutschland – Dienstleistungen von Architektur-\, Konstruktio
DESCRIPTION:Phase: Zuschlag | Beschreibung: Vergabeergebnis — Auftrag wurde erteilt oder Verfahren beendet. | Link: https://ausschreibungsradar.com/ausschreibung/ted-271095-2026/ | Geschätzter Wert: -1 €
URL:https://ausschreibungsradar.com/ausschreibung/ted-271095-2026/
END:VEVENT
END:VCALENDAR
