BEGIN:VCALENDAR
VERSION:2.0
PRODID:-//AusschreibungsRadar//Timeline//DE
CALSCALE:GREGORIAN
METHOD:PUBLISH
X-WR-CALNAME:Projekt Deutschland – Bauarbeiten für Flugplätze, Start- und Landeba
X-WR-TIMEZONE:Europe/Berlin
BEGIN:VEVENT
UID:c90d285ef01b25d3@ausschreibungsradar.com
DTSTAMP:20260424T125718Z
DTSTART;VALUE=DATE:20260417
DTEND;VALUE=DATE:20260417
SUMMARY:Ausschreibung — Deutschland – Bauarbeiten für Flugplätze\, Start- und Landeba
DESCRIPTION:Phase: Ausschreibung | Beschreibung: Offizielle Ausschreibung mit Bieterfrist. | Link: https://ausschreibungsradar.com/ausschreibung/98424ca3-8daa-442f-9fc3-db23ed20d3d6/
URL:https://ausschreibungsradar.com/ausschreibung/98424ca3-8daa-442f-9fc3-db23ed20d3d6/
END:VEVENT
BEGIN:VEVENT
UID:b5ca196ea5f18aa1@ausschreibungsradar.com
DTSTAMP:20260424T125718Z
DTSTART;VALUE=DATE:20260417
DTEND;VALUE=DATE:20260417
SUMMARY:Ausschreibung — Deutschland – Bauarbeiten für Flugplätze\, Start- und Landeba
DESCRIPTION:Phase: Ausschreibung | Beschreibung: Offizielle Ausschreibung mit Bieterfrist. | Link: https://ausschreibungsradar.com/ausschreibung/1b08583f-b453-4996-ad11-ac8ea82438ed/
URL:https://ausschreibungsradar.com/ausschreibung/1b08583f-b453-4996-ad11-ac8ea82438ed/
END:VEVENT
BEGIN:VEVENT
UID:029986140687ae34@ausschreibungsradar.com
DTSTAMP:20260424T125718Z
DTSTART;VALUE=DATE:20260417
DTEND;VALUE=DATE:20260417
SUMMARY:Ausschreibung — Deutschland – Bauarbeiten für Flugplätze\, Start- und Landeba
DESCRIPTION:Phase: Ausschreibung | Beschreibung: Offizielle Ausschreibung mit Bieterfrist. | Link: https://ausschreibungsradar.com/ausschreibung/c7f253da-4637-4ba5-94ff-3ae719ce0f38/
URL:https://ausschreibungsradar.com/ausschreibung/c7f253da-4637-4ba5-94ff-3ae719ce0f38/
END:VEVENT
BEGIN:VEVENT
UID:615e8269d84e1a70@ausschreibungsradar.com
DTSTAMP:20260424T125718Z
DTSTART;VALUE=DATE:20260420
DTEND;VALUE=DATE:20260420
SUMMARY:Ausschreibung — Deutschland – Bauarbeiten für Flugplätze\, Start- und Landeba
DESCRIPTION:Phase: Ausschreibung | Beschreibung: Offizielle Ausschreibung mit Bieterfrist. | Link: https://ausschreibungsradar.com/ausschreibung/ted-266909-2026/
URL:https://ausschreibungsradar.com/ausschreibung/ted-266909-2026/
END:VEVENT
BEGIN:VEVENT
UID:6884ac16353b5741@ausschreibungsradar.com
DTSTAMP:20260424T125718Z
DTSTART;VALUE=DATE:20260421
DTEND;VALUE=DATE:20260421
SUMMARY:Ausschreibung — Deutschland – Bauarbeiten für Flugplätze\, Start- und Landeba
DESCRIPTION:Phase: Ausschreibung | Beschreibung: Offizielle Ausschreibung mit Bieterfrist. | Link: https://ausschreibungsradar.com/ausschreibung/ted-271242-2026/
URL:https://ausschreibungsradar.com/ausschreibung/ted-271242-2026/
END:VEVENT
END:VCALENDAR
