BEGIN:VCALENDAR
VERSION:2.0
PRODID:-//AusschreibungsRadar//Timeline//DE
CALSCALE:GREGORIAN
METHOD:PUBLISH
X-WR-CALNAME:Projekt Deutschland – Planungsleistungen im Bauwesen – Ingenieurleis
X-WR-TIMEZONE:Europe/Berlin
BEGIN:VEVENT
UID:316fe0a4c7e22088@ausschreibungsradar.com
DTSTAMP:20260424T103400Z
DTSTART;VALUE=DATE:20260420
DTEND;VALUE=DATE:20260420
SUMMARY:Ausschreibung — Deutschland – Planungsleistungen im Bauwesen – Ingenieurleis
DESCRIPTION:Phase: Ausschreibung | Beschreibung: Offizielle Ausschreibung mit Bieterfrist. | Link: https://ausschreibungsradar.com/ausschreibung/ee0d2ecc-ab2a-4e68-848d-522026d1f8c6/
URL:https://ausschreibungsradar.com/ausschreibung/ee0d2ecc-ab2a-4e68-848d-522026d1f8c6/
END:VEVENT
BEGIN:VEVENT
UID:6e60a436e9215b60@ausschreibungsradar.com
DTSTAMP:20260424T103400Z
DTSTART;VALUE=DATE:20260421
DTEND;VALUE=DATE:20260421
SUMMARY:Ausschreibung — Deutschland – Planungsleistungen im Bauwesen – Ingenieurleis
DESCRIPTION:Phase: Ausschreibung | Beschreibung: Offizielle Ausschreibung mit Bieterfrist. | Link: https://ausschreibungsradar.com/ausschreibung/ted-271322-2026/
URL:https://ausschreibungsradar.com/ausschreibung/ted-271322-2026/
END:VEVENT
END:VCALENDAR
