BEGIN:VCALENDAR
VERSION:2.0
PRODID:-//AusschreibungsRadar//Timeline//DE
CALSCALE:GREGORIAN
METHOD:PUBLISH
X-WR-CALNAME:Projekt Deutschland – Dienstleistungen von Architekturbüros bei Gebä
X-WR-TIMEZONE:Europe/Berlin
BEGIN:VEVENT
UID:41e168462fab8859@ausschreibungsradar.com
DTSTAMP:20260425T122748Z
DTSTART;VALUE=DATE:20260420
DTEND;VALUE=DATE:20260420
SUMMARY:Ausschreibung — Deutschland – Dienstleistungen von Architekturbüros bei Gebä
DESCRIPTION:Phase: Ausschreibung | Beschreibung: Offizielle Ausschreibung mit Bieterfrist. | Link: https://ausschreibungsradar.com/ausschreibung/5196968f-c63a-4d97-b9fa-981aba3d858f/
URL:https://ausschreibungsradar.com/ausschreibung/5196968f-c63a-4d97-b9fa-981aba3d858f/
END:VEVENT
BEGIN:VEVENT
UID:d595e0cc3b56c366@ausschreibungsradar.com
DTSTAMP:20260425T122748Z
DTSTART;VALUE=DATE:20260421
DTEND;VALUE=DATE:20260421
SUMMARY:Ausschreibung — Deutschland – Dienstleistungen von Architekturbüros bei Gebä
DESCRIPTION:Phase: Ausschreibung | Beschreibung: Offizielle Ausschreibung mit Bieterfrist. | Link: https://ausschreibungsradar.com/ausschreibung/ted-271514-2026/
URL:https://ausschreibungsradar.com/ausschreibung/ted-271514-2026/
END:VEVENT
END:VCALENDAR
