BEGIN:VCALENDAR
VERSION:2.0
PRODID:-//AusschreibungsRadar//Timeline//DE
CALSCALE:GREGORIAN
METHOD:PUBLISH
X-WR-CALNAME:Projekt Deutschland – Reparatur, Wartung und zugehörige Dienste in V
X-WR-TIMEZONE:Europe/Berlin
BEGIN:VEVENT
UID:a4167482936f74f0@ausschreibungsradar.com
DTSTAMP:20260424T133135Z
DTSTART;VALUE=DATE:20260417
DTEND;VALUE=DATE:20260417
SUMMARY:Ausschreibung — Deutschland – Reparatur\, Wartung und zugehörige Dienste in V
DESCRIPTION:Phase: Ausschreibung | Beschreibung: Offizielle Ausschreibung mit Bieterfrist. | Link: https://ausschreibungsradar.com/ausschreibung/20a7d749-a68b-4a9a-ad55-da0997b81d38/
URL:https://ausschreibungsradar.com/ausschreibung/20a7d749-a68b-4a9a-ad55-da0997b81d38/
END:VEVENT
BEGIN:VEVENT
UID:cb863d1854e90f78@ausschreibungsradar.com
DTSTAMP:20260424T133135Z
DTSTART;VALUE=DATE:20260421
DTEND;VALUE=DATE:20260421
SUMMARY:Ausschreibung — Deutschland – Reparatur\, Wartung und zugehörige Dienste in V
DESCRIPTION:Phase: Ausschreibung | Beschreibung: Offizielle Ausschreibung mit Bieterfrist. | Link: https://ausschreibungsradar.com/ausschreibung/ted-271640-2026/
URL:https://ausschreibungsradar.com/ausschreibung/ted-271640-2026/
END:VEVENT
END:VCALENDAR
