BEGIN:VCALENDAR
VERSION:2.0
PRODID:-//AusschreibungsRadar//Timeline//DE
CALSCALE:GREGORIAN
METHOD:PUBLISH
X-WR-CALNAME:Projekt Deutschland – Bauarbeiten – 25E0143 (NL MZ) Universitätsmedi
X-WR-TIMEZONE:Europe/Berlin
BEGIN:VEVENT
UID:02c7a6e0bfdb275f@ausschreibungsradar.com
DTSTAMP:20260426T005644Z
DTSTART;VALUE=DATE:20260420
DTEND;VALUE=DATE:20260420
SUMMARY:Zuschlag — Deutschland – Bauarbeiten – 25E0143 (NL MZ) Universitätsmedi
DESCRIPTION:Phase: Zuschlag | Beschreibung: Vergabeergebnis — Auftrag wurde erteilt oder Verfahren beendet. | Link: https://ausschreibungsradar.com/ausschreibung/f69405d3-0092-4272-8d77-75fedffe19b3/
URL:https://ausschreibungsradar.com/ausschreibung/f69405d3-0092-4272-8d77-75fedffe19b3/
END:VEVENT
BEGIN:VEVENT
UID:37b94857b0c5421a@ausschreibungsradar.com
DTSTAMP:20260426T005644Z
DTSTART;VALUE=DATE:20260421
DTEND;VALUE=DATE:20260421
SUMMARY:Zuschlag — Deutschland – Bauarbeiten – 25E0143 (NL MZ) Universitätsmedi
DESCRIPTION:Phase: Zuschlag | Beschreibung: Vergabeergebnis — Auftrag wurde erteilt oder Verfahren beendet. | Link: https://ausschreibungsradar.com/ausschreibung/ted-272467-2026/ | Geschätzter Wert: 367346 €
URL:https://ausschreibungsradar.com/ausschreibung/ted-272467-2026/
END:VEVENT
END:VCALENDAR
