BEGIN:VCALENDAR
VERSION:2.0
PRODID:-//AusschreibungsRadar//Timeline//DE
CALSCALE:GREGORIAN
METHOD:PUBLISH
X-WR-CALNAME:Projekt Deutschland – Bauarbeiten – Trockenbauarbeiten in der Sporth
X-WR-TIMEZONE:Europe/Berlin
BEGIN:VEVENT
UID:acb56de50fff48de@ausschreibungsradar.com
DTSTAMP:20260424T154910Z
DTSTART;VALUE=DATE:20260402
DTEND;VALUE=DATE:20260402
SUMMARY:Ausschreibung — Deutschland – Bauarbeiten – Trockenbauarbeiten in der Sporth
DESCRIPTION:Phase: Ausschreibung | Beschreibung: Offizielle Ausschreibung mit Bieterfrist. | Link: https://ausschreibungsradar.com/ausschreibung/9181f9ee-eb56-4c52-a3ea-77cfac8e587a/
URL:https://ausschreibungsradar.com/ausschreibung/9181f9ee-eb56-4c52-a3ea-77cfac8e587a/
END:VEVENT
BEGIN:VEVENT
UID:3f210da809dee12d@ausschreibungsradar.com
DTSTAMP:20260424T154910Z
DTSTART;VALUE=DATE:20260422
DTEND;VALUE=DATE:20260422
SUMMARY:Ausschreibung — Deutschland – Bauarbeiten – Trockenbauarbeiten in der Sporth
DESCRIPTION:Phase: Ausschreibung | Beschreibung: Offizielle Ausschreibung mit Bieterfrist. | Link: https://ausschreibungsradar.com/ausschreibung/ted-273808-2026/
URL:https://ausschreibungsradar.com/ausschreibung/ted-273808-2026/
END:VEVENT
BEGIN:VEVENT
UID:36dfbd38f4fd15a5@ausschreibungsradar.com
DTSTAMP:20260424T154910Z
DTSTART;VALUE=DATE:20260422
DTEND;VALUE=DATE:20260422
SUMMARY:Ausschreibung — Deutschland – Bauarbeiten – Trockenbauarbeiten in der Sporth
DESCRIPTION:Phase: Ausschreibung | Beschreibung: Offizielle Ausschreibung mit Bieterfrist. | Link: https://ausschreibungsradar.com/ausschreibung/ce72e68e-2a97-405e-ad73-8c22eeee4b51/
URL:https://ausschreibungsradar.com/ausschreibung/ce72e68e-2a97-405e-ad73-8c22eeee4b51/
END:VEVENT
END:VCALENDAR
