BEGIN:VCALENDAR
VERSION:2.0
PRODID:-//AusschreibungsRadar//Timeline//DE
CALSCALE:GREGORIAN
METHOD:PUBLISH
X-WR-CALNAME:Projekt Deutschland – Bauarbeiten – 70422 Elektrotechnische Anlagen 
X-WR-TIMEZONE:Europe/Berlin
BEGIN:VEVENT
UID:0635243cc8229315@ausschreibungsradar.com
DTSTAMP:20260425T220702Z
DTSTART;VALUE=DATE:20260421
DTEND;VALUE=DATE:20260421
SUMMARY:Ausschreibung — Deutschland – Bauarbeiten – 70422 Elektrotechnische Anlagen 
DESCRIPTION:Phase: Ausschreibung | Beschreibung: Offizielle Ausschreibung mit Bieterfrist. | Link: https://ausschreibungsradar.com/ausschreibung/72ce14a9-356e-4b10-93b7-9c47933e142b/
URL:https://ausschreibungsradar.com/ausschreibung/72ce14a9-356e-4b10-93b7-9c47933e142b/
END:VEVENT
BEGIN:VEVENT
UID:de1f27e0ab6bbec8@ausschreibungsradar.com
DTSTAMP:20260425T220702Z
DTSTART;VALUE=DATE:20260422
DTEND;VALUE=DATE:20260422
SUMMARY:Ausschreibung — Deutschland – Bauarbeiten – 70422 Elektrotechnische Anlagen 
DESCRIPTION:Phase: Ausschreibung | Beschreibung: Offizielle Ausschreibung mit Bieterfrist. | Link: https://ausschreibungsradar.com/ausschreibung/ted-275382-2026/
URL:https://ausschreibungsradar.com/ausschreibung/ted-275382-2026/
END:VEVENT
END:VCALENDAR
