BEGIN:VCALENDAR
VERSION:2.0
PRODID:-//AusschreibungsRadar//Timeline//DE
CALSCALE:GREGORIAN
METHOD:PUBLISH
X-WR-CALNAME:Projekt Deutschland – Bauarbeiten – 22E0142 (LBB NL Mainz) Hochschul
X-WR-TIMEZONE:Europe/Berlin
BEGIN:VEVENT
UID:10156e1c0ebaa582@ausschreibungsradar.com
DTSTAMP:20260424T133310Z
DTSTART;VALUE=DATE:20260421
DTEND;VALUE=DATE:20260421
SUMMARY:Zuschlag — Deutschland – Bauarbeiten – 22E0142 (LBB NL Mainz) Hochschul
DESCRIPTION:Phase: Zuschlag | Beschreibung: Vergabeergebnis — Auftrag wurde erteilt oder Verfahren beendet. | Link: https://ausschreibungsradar.com/ausschreibung/ae2db2e2-d1ed-4acd-bb00-6fc3a72b467d/
URL:https://ausschreibungsradar.com/ausschreibung/ae2db2e2-d1ed-4acd-bb00-6fc3a72b467d/
END:VEVENT
BEGIN:VEVENT
UID:98acae27275a8b76@ausschreibungsradar.com
DTSTAMP:20260424T133310Z
DTSTART;VALUE=DATE:20260422
DTEND;VALUE=DATE:20260422
SUMMARY:Zuschlag — Deutschland – Bauarbeiten – 22E0142 (LBB NL Mainz) Hochschul
DESCRIPTION:Phase: Zuschlag | Beschreibung: Vergabeergebnis — Auftrag wurde erteilt oder Verfahren beendet. | Link: https://ausschreibungsradar.com/ausschreibung/ted-276424-2026/ | Geschätzter Wert: 691771 €
URL:https://ausschreibungsradar.com/ausschreibung/ted-276424-2026/
END:VEVENT
BEGIN:VEVENT
UID:3e6630868beeb746@ausschreibungsradar.com
DTSTAMP:20260424T133310Z
DTSTART;VALUE=DATE:20260422
DTEND;VALUE=DATE:20260422
SUMMARY:Zuschlag — Deutschland – Bauarbeiten – 22E0142 (LBB NL Mainz) Hochschul
DESCRIPTION:Phase: Zuschlag | Beschreibung: Vergabeergebnis — Auftrag wurde erteilt oder Verfahren beendet. | Link: https://ausschreibungsradar.com/ausschreibung/ted-274897-2026/
URL:https://ausschreibungsradar.com/ausschreibung/ted-274897-2026/
END:VEVENT
END:VCALENDAR
