BEGIN:VCALENDAR
VERSION:2.0
PRODID:-//AusschreibungsRadar//Timeline//DE
CALSCALE:GREGORIAN
METHOD:PUBLISH
X-WR-CALNAME:Projekt Deutschland – Installation von Lüftungsanlagen – Sanierung S
X-WR-TIMEZONE:Europe/Berlin
BEGIN:VEVENT
UID:6a1d2bd6d3479d15@ausschreibungsradar.com
DTSTAMP:20260424T133304Z
DTSTART;VALUE=DATE:20260420
DTEND;VALUE=DATE:20260420
SUMMARY:Ausschreibung — Deutschland – Installation von Lüftungsanlagen – Sanierung S
DESCRIPTION:Phase: Ausschreibung | Beschreibung: Offizielle Ausschreibung mit Bieterfrist. | Link: https://ausschreibungsradar.com/ausschreibung/ef07db73-c573-45a3-886b-1b487aae0b73/
URL:https://ausschreibungsradar.com/ausschreibung/ef07db73-c573-45a3-886b-1b487aae0b73/
END:VEVENT
BEGIN:VEVENT
UID:f2342970a9870f6c@ausschreibungsradar.com
DTSTAMP:20260424T133304Z
DTSTART;VALUE=DATE:20260420
DTEND;VALUE=DATE:20260420
SUMMARY:Ausschreibung — Deutschland – Installation von Lüftungsanlagen – Sanierung S
DESCRIPTION:Phase: Ausschreibung | Beschreibung: Offizielle Ausschreibung mit Bieterfrist. | Link: https://ausschreibungsradar.com/ausschreibung/a40d5b4e-233c-4fd6-859c-f4b930f3170c/
URL:https://ausschreibungsradar.com/ausschreibung/a40d5b4e-233c-4fd6-859c-f4b930f3170c/
END:VEVENT
BEGIN:VEVENT
UID:e06e7d857756a993@ausschreibungsradar.com
DTSTAMP:20260424T133304Z
DTSTART;VALUE=DATE:20260421
DTEND;VALUE=DATE:20260421
SUMMARY:Ausschreibung — Deutschland – Installation von Lüftungsanlagen – Sanierung S
DESCRIPTION:Phase: Ausschreibung | Beschreibung: Offizielle Ausschreibung mit Bieterfrist. | Link: https://ausschreibungsradar.com/ausschreibung/ted-270005-2026/
URL:https://ausschreibungsradar.com/ausschreibung/ted-270005-2026/
END:VEVENT
BEGIN:VEVENT
UID:8eb4dffbe36b2707@ausschreibungsradar.com
DTSTAMP:20260424T133304Z
DTSTART;VALUE=DATE:20260423
DTEND;VALUE=DATE:20260423
SUMMARY:Ausschreibung — Deutschland – Installation von Lüftungsanlagen – Sanierung S
DESCRIPTION:Phase: Ausschreibung | Beschreibung: Offizielle Ausschreibung mit Bieterfrist. | Link: https://ausschreibungsradar.com/ausschreibung/ted-276956-2026/
URL:https://ausschreibungsradar.com/ausschreibung/ted-276956-2026/
END:VEVENT
END:VCALENDAR
