BEGIN:VCALENDAR
VERSION:2.0
PRODID:-//AusschreibungsRadar//Timeline//DE
CALSCALE:GREGORIAN
METHOD:PUBLISH
X-WR-CALNAME:Projekt Deutschland – Installation von Heizungs-, Lüftungs- und Klim
X-WR-TIMEZONE:Europe/Berlin
BEGIN:VEVENT
UID:53aafc7b7bf7a650@ausschreibungsradar.com
DTSTAMP:20260426T021155Z
DTSTART;VALUE=DATE:20260402
DTEND;VALUE=DATE:20260402
SUMMARY:Zuschlag — Deutschland – Installation von Heizungs-\, Lüftungs- und Klim
DESCRIPTION:Phase: Zuschlag | Beschreibung: Vergabeergebnis — Auftrag wurde erteilt oder Verfahren beendet. | Link: https://ausschreibungsradar.com/ausschreibung/a3dbe5ad-4815-4c17-b90b-2962005daf31/
URL:https://ausschreibungsradar.com/ausschreibung/a3dbe5ad-4815-4c17-b90b-2962005daf31/
END:VEVENT
BEGIN:VEVENT
UID:3ec060d65ee99a49@ausschreibungsradar.com
DTSTAMP:20260426T021155Z
DTSTART;VALUE=DATE:20260423
DTEND;VALUE=DATE:20260423
SUMMARY:Ausschreibung — Deutschland – Installation von Heizungs-\, Lüftungs- und Klim
DESCRIPTION:Phase: Ausschreibung | Beschreibung: Offizielle Ausschreibung mit Bieterfrist. | Link: https://ausschreibungsradar.com/ausschreibung/ted-277279-2026/
URL:https://ausschreibungsradar.com/ausschreibung/ted-277279-2026/
END:VEVENT
BEGIN:VEVENT
UID:cb818b9ab08c4286@ausschreibungsradar.com
DTSTAMP:20260426T021155Z
DTSTART;VALUE=DATE:20260423
DTEND;VALUE=DATE:20260423
SUMMARY:Ausschreibung — Deutschland – Installation von Heizungs-\, Lüftungs- und Klim
DESCRIPTION:Phase: Ausschreibung | Beschreibung: Offizielle Ausschreibung mit Bieterfrist. | Link: https://ausschreibungsradar.com/ausschreibung/ted-277987-2026/
URL:https://ausschreibungsradar.com/ausschreibung/ted-277987-2026/
END:VEVENT
END:VCALENDAR
