BEGIN:VCALENDAR
VERSION:2.0
PRODID:-//AusschreibungsRadar//Timeline//DE
CALSCALE:GREGORIAN
METHOD:PUBLISH
X-WR-CALNAME:Projekt Deutschland – Bautischlerarbeiten – BLB NRW Z/NL Aachen/Tech
X-WR-TIMEZONE:Europe/Berlin
BEGIN:VEVENT
UID:31909a8ae25e33a6@ausschreibungsradar.com
DTSTAMP:20260424T085628Z
DTSTART;VALUE=DATE:20260423
DTEND;VALUE=DATE:20260423
SUMMARY:Ausschreibung — Deutschland – Bautischlerarbeiten – BLB NRW Z/NL Aachen/Tech
DESCRIPTION:Phase: Ausschreibung | Beschreibung: Offizielle Ausschreibung mit Bieterfrist. | Link: https://ausschreibungsradar.com/ausschreibung/ted-277522-2026/
URL:https://ausschreibungsradar.com/ausschreibung/ted-277522-2026/
END:VEVENT
BEGIN:VEVENT
UID:7c3cc8e295d825d2@ausschreibungsradar.com
DTSTAMP:20260424T085628Z
DTSTART;VALUE=DATE:20260423
DTEND;VALUE=DATE:20260423
SUMMARY:Ausschreibung — Deutschland – Bautischlerarbeiten – BLB NRW Z/NL Aachen/Tech
DESCRIPTION:Phase: Ausschreibung | Beschreibung: Offizielle Ausschreibung mit Bieterfrist. | Link: https://ausschreibungsradar.com/ausschreibung/ted-278124-2026/
URL:https://ausschreibungsradar.com/ausschreibung/ted-278124-2026/
END:VEVENT
END:VCALENDAR
