BEGIN:VCALENDAR
VERSION:2.0
PRODID:-//AusschreibungsRadar//Timeline//DE
CALSCALE:GREGORIAN
METHOD:PUBLISH
X-WR-CALNAME:Projekt Deutschland – Landschaftsgärtnerische Arbeiten – BLB NRW Z/N
X-WR-TIMEZONE:Europe/Berlin
BEGIN:VEVENT
UID:fb5e03f0f18507c1@ausschreibungsradar.com
DTSTAMP:20260424T090102Z
DTSTART;VALUE=DATE:20260423
DTEND;VALUE=DATE:20260423
SUMMARY:Ausschreibung — Deutschland – Landschaftsgärtnerische Arbeiten – BLB NRW Z/N
DESCRIPTION:Phase: Ausschreibung | Beschreibung: Offizielle Ausschreibung mit Bieterfrist. | Link: https://ausschreibungsradar.com/ausschreibung/ted-277944-2026/
URL:https://ausschreibungsradar.com/ausschreibung/ted-277944-2026/
END:VEVENT
BEGIN:VEVENT
UID:7fa003a513057046@ausschreibungsradar.com
DTSTAMP:20260424T090102Z
DTSTART;VALUE=DATE:20260423
DTEND;VALUE=DATE:20260423
SUMMARY:Ausschreibung — Deutschland – Landschaftsgärtnerische Arbeiten – BLB NRW Z/N
DESCRIPTION:Phase: Ausschreibung | Beschreibung: Offizielle Ausschreibung mit Bieterfrist. | Link: https://ausschreibungsradar.com/ausschreibung/ted-278211-2026/
URL:https://ausschreibungsradar.com/ausschreibung/ted-278211-2026/
END:VEVENT
BEGIN:VEVENT
UID:bc3359089fd8e741@ausschreibungsradar.com
DTSTAMP:20260424T090102Z
DTSTART;VALUE=DATE:20260423
DTEND;VALUE=DATE:20260423
SUMMARY:Ausschreibung — Deutschland – Landschaftsgärtnerische Arbeiten – BLB NRW Z/N
DESCRIPTION:Phase: Ausschreibung | Beschreibung: Offizielle Ausschreibung mit Bieterfrist. | Link: https://ausschreibungsradar.com/ausschreibung/ted-278602-2026/
URL:https://ausschreibungsradar.com/ausschreibung/ted-278602-2026/
END:VEVENT
END:VCALENDAR
