BEGIN:VCALENDAR
VERSION:2.0
PRODID:-//AusschreibungsRadar//Timeline//DE
CALSCALE:GREGORIAN
METHOD:PUBLISH
X-WR-CALNAME:Projekt Deutschland – Dienstleistungen von Architektur-, Konstruktio
X-WR-TIMEZONE:Europe/Berlin
BEGIN:VEVENT
UID:9f92e0d50cc3fdce@ausschreibungsradar.com
DTSTAMP:20260424T151323Z
DTSTART;VALUE=DATE:20260327
DTEND;VALUE=DATE:20260327
SUMMARY:Ausschreibung — Deutschland – Dienstleistungen von Architektur-\, Konstruktio
DESCRIPTION:Phase: Ausschreibung | Beschreibung: Offizielle Ausschreibung mit Bieterfrist. | Link: https://ausschreibungsradar.com/ausschreibung/15ddf66f-703d-4e89-8a37-f1356019e2fd/
URL:https://ausschreibungsradar.com/ausschreibung/15ddf66f-703d-4e89-8a37-f1356019e2fd/
END:VEVENT
BEGIN:VEVENT
UID:aa71a398f7b23eb1@ausschreibungsradar.com
DTSTAMP:20260424T151323Z
DTSTART;VALUE=DATE:20260420
DTEND;VALUE=DATE:20260420
SUMMARY:Ausschreibung — Deutschland – Dienstleistungen von Architektur-\, Konstruktio
DESCRIPTION:Phase: Ausschreibung | Beschreibung: Offizielle Ausschreibung mit Bieterfrist. | Link: https://ausschreibungsradar.com/ausschreibung/ted-268037-2026/
URL:https://ausschreibungsradar.com/ausschreibung/ted-268037-2026/
END:VEVENT
BEGIN:VEVENT
UID:fff414c7e21dbb60@ausschreibungsradar.com
DTSTAMP:20260424T151323Z
DTSTART;VALUE=DATE:20260422
DTEND;VALUE=DATE:20260422
SUMMARY:Zuschlag — Deutschland – Dienstleistungen von Architektur-\, Konstruktio
DESCRIPTION:Phase: Zuschlag | Beschreibung: Vergabeergebnis — Auftrag wurde erteilt oder Verfahren beendet. | Link: https://ausschreibungsradar.com/ausschreibung/ted-274941-2026/
URL:https://ausschreibungsradar.com/ausschreibung/ted-274941-2026/
END:VEVENT
BEGIN:VEVENT
UID:3bee7ab377d080e2@ausschreibungsradar.com
DTSTAMP:20260424T151323Z
DTSTART;VALUE=DATE:20260422
DTEND;VALUE=DATE:20260422
SUMMARY:Zuschlag — Deutschland – Dienstleistungen von Architektur-\, Konstruktio
DESCRIPTION:Phase: Zuschlag | Beschreibung: Vergabeergebnis — Auftrag wurde erteilt oder Verfahren beendet. | Link: https://ausschreibungsradar.com/ausschreibung/ted-276449-2026/
URL:https://ausschreibungsradar.com/ausschreibung/ted-276449-2026/
END:VEVENT
BEGIN:VEVENT
UID:011e084e73f0e804@ausschreibungsradar.com
DTSTAMP:20260424T151323Z
DTSTART;VALUE=DATE:20260422
DTEND;VALUE=DATE:20260422
SUMMARY:Ausschreibung — Deutschland – Dienstleistungen von Architektur-\, Konstruktio
DESCRIPTION:Phase: Ausschreibung | Beschreibung: Offizielle Ausschreibung mit Bieterfrist. | Link: https://ausschreibungsradar.com/ausschreibung/ted-276289-2026/
URL:https://ausschreibungsradar.com/ausschreibung/ted-276289-2026/
END:VEVENT
BEGIN:VEVENT
UID:1f7102a471747c5c@ausschreibungsradar.com
DTSTAMP:20260424T151323Z
DTSTART;VALUE=DATE:20260423
DTEND;VALUE=DATE:20260423
SUMMARY:Zuschlag — Deutschland – Dienstleistungen von Architektur-\, Konstruktio
DESCRIPTION:Phase: Zuschlag | Beschreibung: Vergabeergebnis — Auftrag wurde erteilt oder Verfahren beendet. | Link: https://ausschreibungsradar.com/ausschreibung/ted-278340-2026/ | Geschätzter Wert: 111961 €
URL:https://ausschreibungsradar.com/ausschreibung/ted-278340-2026/
END:VEVENT
END:VCALENDAR
