BEGIN:VCALENDAR
VERSION:2.0
PRODID:-//AusschreibungsRadar//Timeline//DE
CALSCALE:GREGORIAN
METHOD:PUBLISH
X-WR-CALNAME:Projekt Deutschland – Bauarbeiten – BERNATURA Struobstkompetenzzentr
X-WR-TIMEZONE:Europe/Berlin
BEGIN:VEVENT
UID:98cf4a546e056819@ausschreibungsradar.com
DTSTAMP:20260426T010927Z
DTSTART;VALUE=DATE:20240506
DTEND;VALUE=DATE:20240506
SUMMARY:Ausschreibung — Deutschland – Bauarbeiten – BERNATURA Struobstkompetenzzentr
DESCRIPTION:Phase: Ausschreibung | Beschreibung: Offizielle Ausschreibung mit Bieterfrist. | Link: https://ausschreibungsradar.com/ausschreibung/ted-268271-2024/
URL:https://ausschreibungsradar.com/ausschreibung/ted-268271-2024/
END:VEVENT
BEGIN:VEVENT
UID:18d9d796abc864db@ausschreibungsradar.com
DTSTAMP:20260426T010927Z
DTSTART;VALUE=DATE:20240527
DTEND;VALUE=DATE:20240527
SUMMARY:Ausschreibung — Deutschland – Bauarbeiten – BERNATURA Struobstkompetenzzentr
DESCRIPTION:Phase: Ausschreibung | Beschreibung: Offizielle Ausschreibung mit Bieterfrist. | Link: https://ausschreibungsradar.com/ausschreibung/ted-308863-2024/ | Geschätzter Wert: 268500 €
URL:https://ausschreibungsradar.com/ausschreibung/ted-308863-2024/
END:VEVENT
END:VCALENDAR
